Workbook
Name MaCV: 'NK đổ BT'!$B$4:$B$10
Name Thang: 'NK đổ BT'!$C$4:$C$10
Name KhoiLuong: 'NK đổ BT'!$D$4:$D$10

Sheet Mục lục
A1: DVDAddin — File thực hành các lệnh
A2: Mỗi sheet chứa đúng dữ liệu của hình trong hướng dẫn: địa chỉ ô, tiêu đề cột, định dạng khớp từng bước. Mở trang hướng dẫn (cột cuối), chuyển sang sheet tương ứng và làm theo. Nên lưu một bản sao trước khi thử — vài lệnh làm việc trên cả workbook (đổi tên, ẩn, đánh số, bỏ dấu tên sheet).
A4: STT | B4: Tab | C4: Nhóm | D4: Lệnh | E4: Sheet thực hành | F4: Việc cần làm trước | G4: Hướng dẫn
A5: 1 | B5: DVD Cons | C5: Tiến độ | D5: Vẽ tiến độ | E5: Vẽ tiến độ | F5: Mở sheet tiến độ và đặt con trỏ vào một ô trong bảng công tác, ví dụ dòng cuối — add-in tự nhận diện dòng tiêu đề (Thời lượng / Bắt đầu / Kết thúc) và vùng dữ liệu. | G5: =HYPERLINK("https://dvdaddin.dvdpm.net/vi/commands/reference/btnDrawGanttChart","Mở hướng dẫn") -> Mở hướng dẫn
A6: 2 | B6: DVD Cons | C6: Tiến độ | D6: Tự động tính | E6: Tự động tính | F6: Nút sáng lên là đang BẬT; thanh trạng thái Excel xác nhận trong khoảng 6 giây . Giờ sửa thử: gõ thời lượng mới cho Đào đất hố móng — từ 6 xuống 4 ngày — rồi nhấn Enter. | G6: =HYPERLINK("https://dvdaddin.dvdpm.net/vi/commands/reference/ToggleAutoCalc","Mở hướng dẫn") -> Mở hướng dẫn
A7: 3 | B7: DVD Cons | C7: Tiến độ | D7: Tự động vẽ | E7: Tự động vẽ | F7: Nút sáng lên là đang BẬT; thanh trạng thái xác nhận trong khoảng 6 giây . Giờ sửa số liệu như thường lệ — ví dụ Đào đất hố móng gặp nước ngầm, tăng thời lượng từ 6 lên 8 ngày . | G7: =HYPERLINK("https://dvdaddin.dvdpm.net/vi/commands/reference/ToggleAutoDraw","Mở hướng dẫn") -> Mở hướng dẫn
A8: 4 | B8: DVD Cons | C8: Tiến độ | D8: Cập nhật tiến độ (ngày dữ liệu) | E8: Cập nhật tiến độ (ngày dữ liệu) | F8: Cập nhật thực tế tới ngày báo cáo: Bắt đầu thực tế, Kết thúc thực tế và % hoàn thành của từng công tác . Ở đây ngày báo cáo là thứ Tư 21/10/2026: Cốt thép, ván khuôn đài móng mới làm 25%, còn Gia công thép chờ cột lẽ ra bắt đầu từ 15/10 nhưng chưa làm. | G8: =HYPERLINK("https://dvdaddin.dvdpm.net/vi/commands/reference/btnUpdateSchedule","Mở hướng dẫn") -> Mở hướng dẫn
A9: 5 | B9: DVD Cons | C9: Tiến độ | D9: Cập nhật trạng thái | E9: Cập nhật trạng thái | F9: Mở sheet tiến độ cần đánh giá. Sheet phải có các cột Thời lượng / Bắt đầu / Kết thúc / Hoàn thành ; có thêm BĐ thực tế / KT thực tế thì có Δ Finish, Trạng thái, Dự báo; có BAC / EV (ở đây tính bằng triệu đồng) thì có PV, SV, SPI. | G9: =HYPERLINK("https://dvdaddin.dvdpm.net/vi/commands/reference/btnUpdateStatus","Mở hướng dẫn") -> Mở hướng dẫn
A10: 6 | B10: DVD Cons | C10: Tiến độ | D10: Cài đặt | E10: — (không cần dữ liệu mẫu) | G10: =HYPERLINK("https://dvdaddin.dvdpm.net/vi/commands/reference/btnGanttSetupGroup","Mở hướng dẫn") -> Mở hướng dẫn
A11: 7 | B11: DVD Cons | C11: Tiến độ | D11: Mẫu tiến độ | E11: — (không cần dữ liệu mẫu) | G11: =HYPERLINK("https://dvdaddin.dvdpm.net/vi/commands/reference/btnGanttTpl","Mở hướng dẫn") -> Mở hướng dẫn
A12: 8 | B12: DVD Cons | C12: Tiến độ | D12: Ràng buộc | E12: Ràng buộc | F12: Mở sheet tiến độ và bôi đen dòng công tác cần ràng buộc — ở đây Lắp dựng cẩu tháp, vì mặt bằng đặt cẩu chỉ được bàn giao từ 02/11/2026. Chưa chọn dòng nào trong vùng dữ liệu thì lệnh chỉ nhắc rồi dừng. | G12: =HYPERLINK("https://dvdaddin.dvdpm.net/vi/commands/reference/btnConstraints","Mở hướng dẫn") -> Mở hướng dẫn
A13: 9 | B13: DVD Cons | C13: Tiến độ | D13: Ngôn ngữ tiêu đề | E13: Ngôn ngữ tiêu đề | F13: Mở sheet tiến độ cần đổi tiêu đề — ví dụ sheet vừa nhập từ MS Project, hàng tiêu đề đang là tiếng Anh . | G13: =HYPERLINK("https://dvdaddin.dvdpm.net/vi/commands/reference/btnHeaderLang","Mở hướng dẫn") -> Mở hướng dẫn
A14: 10 | B14: DVD Cons | C14: Tiến độ | D14: Xuất XML (P6/MSP) | E14: Xuất XML (P6-MSP) | F14: Mở sheet tiến độ cần xuất (phải là worksheet). Nên để Tự động tính chạy xong một lượt để ngày trên sheet là kết quả mới nhất — lệnh chỉ đọc, không sửa sheet. | G14: =HYPERLINK("https://dvdaddin.dvdpm.net/vi/commands/reference/btnExportXml","Mở hướng dẫn") -> Mở hướng dẫn
A15: 11 | B15: DVD Cons | C15: Tiến độ | D15: Nhập XML (P6/MSP) | E15: — (không cần dữ liệu mẫu) | G15: =HYPERLINK("https://dvdaddin.dvdpm.net/vi/commands/reference/btnImportXml","Mở hướng dẫn") -> Mở hướng dẫn
A16: 12 | B16: DVD Cons | C16: Tiến độ | D16: Nhập .xer (P6) | E16: — (không cần dữ liệu mẫu) | G16: =HYPERLINK("https://dvdaddin.dvdpm.net/vi/commands/reference/btnImportXer","Mở hướng dẫn") -> Mở hướng dẫn
A17: 13 | B17: DVD Cons | C17: Tiến độ | D17: AI Lập tiến độ | E17: AI Lập tiến độ | F17: Mở sheet bảng khối lượng và bôi đen vùng BoQ kể cả dòng tiêu đề — cột 1 mã hiệu, cột 2 tên công việc, cột 3 đơn vị, cột 4 khối lượng. | G17: =HYPERLINK("https://dvdaddin.dvdpm.net/vi/commands/reference/btnGanttBuilder","Mở hướng dẫn") -> Mở hướng dẫn
A18: 14 | B18: DVD Cons | C18: Tiến độ | D18: Đề xuất tiến độ | E18: Đề xuất tiến độ | F18: Mở sheet tiến độ có đủ cột Bắt đầu / Kết thúc / Hoàn thành (%) , % hoàn thành đã cập nhật tới ngày chốt số liệu. | G18: =HYPERLINK("https://dvdaddin.dvdpm.net/vi/commands/reference/btnScheduleRecovery","Mở hướng dẫn") -> Mở hướng dẫn
A19: 15 | B19: DVD Cons | C19: Tiến độ | D19: Kiểm tra chất lượng | E19: Kiểm tra chất lượng | F19: Mở sheet tiến độ cần thẩm định: có Mã công tác, quan hệ Công tác trước và ngày thực tế. Chạy Tự động tính trước để cột Tổng trôi có số — thiếu cột này thì mục Float âm / Float cao bị bỏ qua. | G19: =HYPERLINK("https://dvdaddin.dvdpm.net/vi/commands/reference/btnHealthCheck","Mở hướng dẫn") -> Mở hướng dẫn
A20: 16 | B20: DVD Cons | C20: Tiến độ | D20: Báo cáo EVM | E20: Báo cáo EVM | F20: Trên sheet tiến độ, cập nhật Hoàn thành (%) và chi phí thực tế AC tới ngày chốt; cột BAC là dự toán từng công tác (chưa có cột BAC thì thêm cột BAC vào bảng trước). | G20: =HYPERLINK("https://dvdaddin.dvdpm.net/vi/commands/reference/btnEvmReport","Mở hướng dẫn") -> Mở hướng dẫn
A21: 17 | B21: DVD Cons | C21: Tiến độ | D21: Bảng chênh lệch tiến độ | E21: Bảng chênh lệch tiến độ | F21: Mở sheet tiến độ đã cập nhật ngày thực tế , % hoàn thành và cột BAC / AC — dashboard cần cả phần tiến độ lẫn phần chi phí. | G21: =HYPERLINK("https://dvdaddin.dvdpm.net/vi/commands/reference/btnVarianceDashboard","Mở hướng dẫn") -> Mở hướng dẫn
A22: 18 | B22: DVD Cons | C22: Tiến độ | D22: Kế hoạch 2 tuần tới | E22: Kế hoạch 2 tuần tới | F22: Mở sheet tiến độ đã cập nhật ngày thực tế và % hoàn thành tới hôm nay. Công tác A3005 lẽ ra xong 18/09 nhưng mới đạt 80% — việc quá hạn như vậy vẫn được đưa vào kế hoạch. | G22: =HYPERLINK("https://dvdaddin.dvdpm.net/vi/commands/reference/btnLookahead2W","Mở hướng dẫn") -> Mở hướng dẫn
A23: 19 | B23: DVD Cons | C23: Tiến độ | D23: Kế hoạch 3 tuần tới | E23: Kế hoạch 3 tuần tới | F23: Mở sheet tiến độ đã cập nhật ngày thực tế và % hoàn thành tới hôm nay. Công tác A3005 lẽ ra xong 18/09 nhưng mới đạt 80% — việc quá hạn như vậy vẫn được đưa vào kế hoạch. | G23: =HYPERLINK("https://dvdaddin.dvdpm.net/vi/commands/reference/btnLookahead","Mở hướng dẫn") -> Mở hướng dẫn
A24: 20 | B24: DVD Cons | C24: Tiến độ | D24: Sinh tiến độ (khoảng tùy chọn) | E24: Sinh tiến độ (khoảng tùy chọn) | F24: Mở sheet tiến độ nguồn có Mã / Tên công tác và cột Bắt đầu / Kết thúc . Lệnh không chạy lại CPM, nên nếu vừa sửa quan hệ thì chạy Tự động tính trước. | G24: =HYPERLINK("https://dvdaddin.dvdpm.net/vi/commands/reference/btnLookaheadRange","Mở hướng dẫn") -> Mở hướng dẫn
A25: 21 | B25: DVD Cons | C25: Tiến độ | D25: Baseline | E25: — (không cần dữ liệu mẫu) | G25: =HYPERLINK("https://dvdaddin.dvdpm.net/vi/commands/reference/btnBaseline","Mở hướng dẫn") -> Mở hướng dẫn
A26: 22 | B26: DVD Cons | C26: Tiến độ | D26: Snapshot tuần | E26: Snapshot tuần | F26: Cập nhật tiến độ tới ngày chốt tuần: Hoàn thành (%) và chi phí thực tế AC (cần cột BAC để snapshot có SPI / CPI), rồi chạy Tự động tính. | G26: =HYPERLINK("https://dvdaddin.dvdpm.net/vi/commands/reference/btnSnapshotCapture","Mở hướng dẫn") -> Mở hướng dẫn
A27: 23 | B27: DVD Cons | C27: Tiến độ | D27: Xu hướng snapshot | E27: — (không cần dữ liệu mẫu) | G27: =HYPERLINK("https://dvdaddin.dvdpm.net/vi/commands/reference/btnSnapshotTrend","Mở hướng dẫn") -> Mở hướng dẫn
A28: 24 | B28: DVD Cons | C28: Tiến độ | D28: Nhân lực | E28: Nhân lực | F28: Mở sheet tiến độ có cột Nhân lực — số công nhân mỗi ngày của từng công tác (không có cột này thì lệnh đếm số công tác diễn ra đồng thời). Chạy Tự động tính để ngày là mới nhất. | G28: =HYPERLINK("https://dvdaddin.dvdpm.net/vi/commands/reference/btnManpower","Mở hướng dẫn") -> Mở hướng dẫn
A29: 25 | B29: DVD Cons | C29: Tiến độ | D29: Cân bằng nhân lực | E29: Cân bằng nhân lực | F29: Mở sheet tiến độ có cột Công tác trước (để giữ trình tự thi công) và Nhân lực . | G29: =HYPERLINK("https://dvdaddin.dvdpm.net/vi/commands/reference/btnResourceLevelling","Mở hướng dẫn") -> Mở hướng dẫn
A30: 26 | B30: DVD Cons | C30: Tiến độ | D30: Dòng tiền | E30: Dòng tiền | F30: Mở sheet tiến độ đã điền BAC (dự toán) cho từng công tác và đủ ngày Bắt đầu / Kết thúc; chạy Tự động tính để ngày là mới nhất. | G30: =HYPERLINK("https://dvdaddin.dvdpm.net/vi/commands/reference/btnCashflow","Mở hướng dẫn") -> Mở hướng dẫn
A31: 27 | B31: DVD Cons | C31: Cắt thép | D31: Cắt tối ưu | E31: Cắt tối ưu | F31: Mở workbook có sheet danh sách cắt bốn cột Ø (mm) · Chiều dài (mm) · Số lượng · Ký hiệu — sheet 2_CatThep do Thống kê thép → Xuất danh sách cắt ghi ra, hoặc tệp Mẫu Cắt thép. Dòng có Ø nhỏ hơn ngưỡng thép cuộn (mặc định 10 mm) không đem cắt, chỉ được cộng tổng mét và kg. | G31: =HYPERLINK("https://dvdaddin.dvdpm.net/vi/commands/reference/btnCuttingOptimizer","Mở hướng dẫn") -> Mở hướng dẫn
A32: 28 | B32: DVD Cons | C32: Cắt thép | D32: Nhập thống kê | E32: — (không cần dữ liệu mẫu) | G32: =HYPERLINK("https://dvdaddin.dvdpm.net/vi/commands/reference/btnRebarShape","Mở hướng dẫn") -> Mở hướng dẫn
A33: 29 | B33: DVD Cons | C33: Cắt thép | D33: Thống kê thép | E33: Thống kê thép | F33: Bôi đen bảng kích thước thép, gồm cả dòng tiêu đề . Cột hình dạng nhận cả mã (00, 21, 51…) lẫn chữ (thẳng, L, đai); chỉ cột đường kính là bắt buộc. | G33: =HYPERLINK("https://dvdaddin.dvdpm.net/vi/commands/reference/btnBendingSchedule","Mở hướng dẫn") -> Mở hướng dẫn
A34: 30 | B34: DVD Cons | C34: Cắt thép | D34: Cắt thanh 1D | E34: Cắt thanh 1D, Cắt thanh 1D · CatThanh_Thanh | F34: Nhập danh sách phôi cần cắt vào sheet CatThanh_Phoi — chưa có sheet thì tạo bằng Mẫu Cắt thanh. Ví dụ khung bao, giằng thép hộp 50×50 cho một sàn thao tác. | G34: =HYPERLINK("https://dvdaddin.dvdpm.net/vi/commands/reference/btnBarCut","Mở hướng dẫn") -> Mở hướng dẫn
A35: 31 | B35: DVD Cons | C35: Cắt thép | D35: Cắt tấm 2D | E35: Cắt tấm 2D, Cắt tấm 2D · CatTam_Tam | F35: Nhập phôi cần cắt vào sheet CatTam_Phoi — chưa có sheet thì tạo bằng Mẫu Cắt tấm. Ví dụ ván phủ phim cốp pha cho một tầng; cột Xoay (1/0) để 0 với ván thành cần giữ chiều vân. | G35: =HYPERLINK("https://dvdaddin.dvdpm.net/vi/commands/reference/btnPanelCut","Mở hướng dẫn") -> Mở hướng dẫn
A36: 32 | B36: DVD Cons | C36: Cắt thép | D36: Mẫu Cắt thép | E36: Mẫu Cắt thép | F36: Sang sheet 2_CatThep: bốn cột Ø (mm) · Chiều dài (mm) · Số lượng · Ký hiệu . Các dòng tô màu là dữ liệu ví dụ, như ghi chú bên phải — xoá hết rồi nhập danh sách đoạn cần cắt, hoặc dán từ Thống kê thép → Xuất danh sách cắt. | G36: =HYPERLINK("https://dvdaddin.dvdpm.net/vi/commands/reference/btnCuttingTpl","Mở hướng dẫn") -> Mở hướng dẫn
A37: 33 | B37: DVD Cons | C37: Cắt thép | D37: Mẫu Cắt thanh | E37: Mẫu Cắt thanh | F37: Add-in thêm hai sheet vào workbook đang mở (chưa mở workbook nào thì tạo workbook mới) và báo ✓ Đã tạo mẫu Cắt thanh. Sheet CatThanh_Phoi là danh sách phôi cần cắt — Dài · SL · Vật liệu · Nhãn · Ưu tiên, kèm 4 dòng ví dụ ; phôi có Ưu tiên cao hơn được xếp trước. Sheet nào đã có dữ liệu ở ô A1 thì được giữ nguyên, không ghi đè. | G37: =HYPERLINK("https://dvdaddin.dvdpm.net/vi/commands/reference/btnBarTpl","Mở hướng dẫn") -> Mở hướng dẫn
A38: 34 | B38: DVD Cons | C38: Cắt thép | D38: Mẫu Cắt tấm | E38: Mẫu Cắt tấm | F38: Xoá các dòng ví dụ rồi nhập phôi cần cắt vào CatTam_Phoi đúng thứ tự cột — ví dụ kính 8 mm cho vách mặt dựng. Cột Xoay (1/0) để 0 với kính định hướng, ván có vân hay tôn có sóng; hai cột Nẹp / Mài ghi các cạnh cần dán nẹp / mài (T B L R), để trống nếu không có. | G38: =HYPERLINK("https://dvdaddin.dvdpm.net/vi/commands/reference/btnPanelTpl","Mở hướng dẫn") -> Mở hướng dẫn
A39: 35 | B39: DVD Cons | C39: QAQC và Nhật ký | D39: Tạo Nhật ký | E39: Tạo Nhật ký | F39: Chuẩn bị bảng danh mục công tác : mỗi dòng một công tác với ngày bắt đầu, kết thúc, ngày nghiệm thu, nội dung và (tuỳ chọn) ngày nghỉ. Ghi ngày bắt đầu và ngày kết thúc của kỳ nhật ký vào hai ô riêng. Vùng dữ liệu phải gồm cả dòng tiêu đề — add-in bỏ qua dòng đầu tiên của vùng. | G39: =HYPERLINK("https://dvdaddin.dvdpm.net/vi/commands/reference/btnConsDiary","Mở hướng dẫn") -> Mở hướng dẫn
A40: 36 | B40: DVD Cons | C40: QAQC và Nhật ký | D40: Xuất danh mục | E40: Xuất danh mục | F40: Bảng theo dõi hồ sơ nghiệm thu có nhiều cột, nhưng biểu mẫu nộp TVGS chỉ cần công việc, vị trí, ngày và số biên bản. Xác định vùng dữ liệu — chỉ lấy các dòng dữ liệu, không lấy dòng tiêu đề (mọi dòng có chữ ở cột chuẩn đều bị xuất). Dòng nhóm như "A. PHẦN MÓNG" bỏ trống cột công việc nên sẽ không được xuất. | G40: =HYPERLINK("https://dvdaddin.dvdpm.net/vi/commands/reference/btnExportCategory","Mở hướng dẫn") -> Mở hướng dẫn
A41: 37 | B41: DVD Cons | C41: QAQC và Nhật ký | D41: Chọn ngày nghỉ | E41: Chọn ngày nghỉ | F41: Trong bảng danh mục công tác, chọn ô cột Ngày nghỉ của công tác cần khai — chọn nhiều ô nếu nhiều công tác nghỉ cùng các ngày đó (tối đa 500 ô). | G41: =HYPERLINK("https://dvdaddin.dvdpm.net/vi/commands/reference/btnRestDays","Mở hướng dẫn") -> Mở hướng dẫn
A42: 38 | B42: DVD Cons | C42: QAQC và Nhật ký | D42: Mẫu NT công việc | E42: Mẫu NT công việc | F42: Add-in mở file mẫu FormNTCV.xlsx trong thư mục cài add-in C:\DVDAddin\Template\ (không thấy thì tìm thư mục Template\ cạnh workbook đang mở, vẫn không có thì báo các đường dẫn đã tìm). Chuyển sang sheet TTC và điền thông tin chung : các biểu mẫu trong file lấy tên dự án, công trình, gói thầu và các bên từ đây; ô Tỉnh thành đứng đầu dòng "…, ngày … tháng … năm …" của biên bản. | G42: =HYPERLINK("https://dvdaddin.dvdpm.net/vi/commands/reference/btnWorkRecordTpl","Mở hướng dẫn") -> Mở hướng dẫn
A43: 39 | B43: DVD Cons | C43: QAQC và Nhật ký | D43: Mẫu NT vật liệu | E43: Mẫu NT vật liệu | F43: Add-in mở file mẫu FormNTVL.xlsx trong thư mục cài add-in C:\DVDAddin\Template\ (không thấy thì tìm thư mục Template\ cạnh workbook đang mở, vẫn không có thì báo các đường dẫn đã tìm). Chuyển sang sheet TTC và điền thông tin chung : các biểu mẫu trong file lấy tên dự án, công trình, gói thầu và các bên từ đây; ô Tỉnh thành đứng đầu dòng "…, ngày … tháng … năm …" của biên bản. | G43: =HYPERLINK("https://dvdaddin.dvdpm.net/vi/commands/reference/btnMaterialRecordTpl","Mở hướng dẫn") -> Mở hướng dẫn
A44: 40 | B44: DVD Cons | C44: QAQC và Nhật ký | D44: Mẫu Nhật ký | E44: Mẫu Nhật ký, DATA | F44: Add-in mở file mẫu FormNKCT.xlsx trong C:\DVDAddin\Template\ (hoặc thư mục Template\ cạnh workbook đang mở) ở sheet NKCT — trang nhật ký một ngày. Mọi ô của trang lấy từ sheet DATA: ngày , thời tiết, nhân lực và máy móc , vật tư ra vào, công việc thi công và nghiệm thu trong ngày. Dòng ngày dùng định dạng ô có sẵn địa danh "Tỉnh/TP" — sửa trong Format Cells cho đúng công trình. | G44: =HYPERLINK("https://dvdaddin.dvdpm.net/vi/commands/reference/btnDiaryTpl","Mở hướng dẫn") -> Mở hướng dẫn
A45: 41 | B45: DVD Cons | C45: QAQC và Nhật ký | D45: Kế hoạch TN | E45: Kế hoạch TN | F45: Bôi đen các ô chứa tên vật liệu (ví dụ cột tên vật tư của bảng khối lượng) . | G45: =HYPERLINK("https://dvdaddin.dvdpm.net/vi/commands/reference/btnTestPlan","Mở hướng dẫn") -> Mở hướng dẫn
A46: 42 | B46: DVD Cons | C46: QAQC và Nhật ký | D46: Kế hoạch NT | E46: Kế hoạch NT | F46: Mở sheet chứa bảng tiến độ. Add-in tự nhận dòng tiêu đề có cột Tên công việc và Bắt đầu / Kết thúc (cột Mã CV, Cấp nếu có) ; mỗi dòng công việc bên dưới sẽ thành một dòng kế hoạch nghiệm thu. | G46: =HYPERLINK("https://dvdaddin.dvdpm.net/vi/commands/reference/btnAcceptancePlan","Mở hướng dẫn") -> Mở hướng dẫn
A47: 43 | B47: DVD Cons | C47: QAQC và Nhật ký | D47: Biên bản NT | E47: Biên bản NT | F47: Mở sheet Ke hoach NT … do lệnh Kế hoạch NT lập và chọn các dòng công việc cần nghiệm thu — chọn nhiều khối rời bằng Ctrl được. Cột Tiêu chuẩn áp dụng sẽ được chép vào căn cứ nghiệm thu, nên rà soát và sửa nó thành đúng số hiệu tiêu chuẩn trước. | G47: =HYPERLINK("https://dvdaddin.dvdpm.net/vi/commands/reference/btnAcceptanceRecord","Mở hướng dẫn") -> Mở hướng dẫn
A48: 44 | B48: DVD Cons | C48: QAQC và Nhật ký | D48: Tồn tại | E48: — (không cần dữ liệu mẫu) | G48: =HYPERLINK("https://dvdaddin.dvdpm.net/vi/commands/reference/btnPunchList","Mở hướng dẫn") -> Mở hướng dẫn
A49: 45 | B49: DVD Cons | C49: QAQC và Nhật ký | D49: RFI | E49: — (không cần dữ liệu mẫu) | G49: =HYPERLINK("https://dvdaddin.dvdpm.net/vi/commands/reference/btnRfiRegister","Mở hướng dẫn") -> Mở hướng dẫn
A50: 46 | B50: DVD Cons | C50: QAQC và Nhật ký | D50: Trình duyệt | E50: — (không cần dữ liệu mẫu) | G50: =HYPERLINK("https://dvdaddin.dvdpm.net/vi/commands/reference/btnSubmittalRegister","Mở hướng dẫn") -> Mở hướng dẫn
A51: 47 | B51: DVD Cons | C51: QS | D51: AI Báo giá XD | E51: AI Báo giá XD | F51: Bôi đen vùng hạng mục cần báo giá, gồm cột Tên hạng mục, Đơn vị và (nếu có) Khối lượng . Cột đơn giá, nguồn giá, ghi chú bên phải để trống. | G51: =HYPERLINK("https://dvdaddin.dvdpm.net/vi/commands/reference/btnAIEstimate","Mở hướng dẫn") -> Mở hướng dẫn
A52: 48 | B52: DVD Cons | C52: QS | D52: Thanh toán theo kỳ | E52: Thanh toán theo kỳ | F52: Bôi đen bảng khối lượng hợp đồng, gồm cả dòng tiêu đề . Cột % HT lũy kế là tiến độ bạn cập nhật trước mỗi kỳ thanh toán. | G52: =HYPERLINK("https://dvdaddin.dvdpm.net/vi/commands/reference/btnPaymentValuation","Mở hướng dẫn") -> Mở hướng dẫn
A53: 49 | B53: DVD Cons | C53: QS | D53: So sánh BoQ | E53: So sánh BoQ | F53: Hai phiên bản BoQ cần cùng bố cục cột, ví dụ sheet Du thau và Nghiem thu trong cùng một tệp: cột B là mã hiệu dùng làm khoá so khớp , cột E là khối lượng . Không cần chọn vùng. | G53: =HYPERLINK("https://dvdaddin.dvdpm.net/vi/commands/reference/btnBoqCompare","Mở hướng dẫn") -> Mở hướng dẫn
A54: 50 | B54: DVD Cons | C54: QS | D54: Bù giá | E54: Bù giá | F54: Bôi đen bảng vật liệu được bù giá, gồm cả dòng tiêu đề : tên vật liệu, khối lượng, đơn giá gốc theo hợp đồng và đơn giá tại thời điểm điều chỉnh. | G54: =HYPERLINK("https://dvdaddin.dvdpm.net/vi/commands/reference/btnPriceAdjustment","Mở hướng dẫn") -> Mở hướng dẫn
A55: 51 | B55: DVD Cons | C55: QS | D55: Cầu nối dự toán | E55: Cầu nối dự toán | F55: Trong phần mềm dự toán, xuất bảng dự toán ra Excel. Bản xuất thường có vài dòng tên công trình, dòng tiêu đề cột , dòng chương và dòng cộng — không cần sửa gì, cũng không cần mở tệp này. | G55: =HYPERLINK("https://dvdaddin.dvdpm.net/vi/commands/reference/btnEstimateBridge","Mở hướng dẫn") -> Mở hướng dẫn
A56: 52 | B56: DVD Cons | C56: QS | D56: Đo bóc PDF | E56: — (không cần dữ liệu mẫu) | G56: =HYPERLINK("https://dvdaddin.dvdpm.net/vi/commands/reference/btnPdfTakeoff","Mở hướng dẫn") -> Mở hướng dẫn
A57: 53 | B57: DVD Cons | C57: QS | D57: So bản vẽ | E57: — (không cần dữ liệu mẫu) | G57: =HYPERLINK("https://dvdaddin.dvdpm.net/vi/commands/reference/btnPdfCompare","Mở hướng dẫn") -> Mở hướng dẫn
A58: 54 | B58: DVD Cons | C58: QS | D58: Truy vấn dữ liệu | E58: Truy vấn dữ liệu | F58: Chọn ô sẽ nhận kết quả — ở đây là ô khối lượng bê tông móng trong bảng tổng hợp. | G58: =HYPERLINK("https://dvdaddin.dvdpm.net/vi/commands/reference/btnSqlBuilder","Mở hướng dẫn") -> Mở hướng dẫn
A59: 55 | B59: DVD Cons | C59: QS | D59: Sổ phát sinh | E59: Sổ phát sinh | F59: Bôi đen bảng đo bóc các đầu việc phát sinh, gồm dòng tiêu đề . Khối lượng ghi dương là tăng, âm là giảm . | G59: =HYPERLINK("https://dvdaddin.dvdpm.net/vi/commands/reference/btnVariationRegister","Mở hướng dẫn") -> Mở hướng dẫn
A60: 56 | B60: DVD Cons | C60: Hệ thống kết nối | D60: Kết nối Server | E60: — (không cần dữ liệu mẫu) | G60: =HYPERLINK("https://dvdaddin.dvdpm.net/vi/commands/reference/btnConnect","Mở hướng dẫn") -> Mở hướng dẫn
A61: 57 | B61: DVD Cons | C61: Hệ thống kết nối | D61: Ngắt kết nối | E61: — (không cần dữ liệu mẫu) | G61: =HYPERLINK("https://dvdaddin.dvdpm.net/vi/commands/reference/btnDisconnect","Mở hướng dẫn") -> Mở hướng dẫn
A62: 58 | B62: DVD Cons | C62: Hệ thống kết nối | D62: Gửi Định dạng | E62: Gửi Định dạng | F62: Đang ở trong phiên làm việc nhóm (nút Kết nối hiện Đã nối · …), định dạng vùng cho ưng ý trên máy bạn rồi bôi đen đúng vùng cần gửi — ví dụ dải tiêu đề A5:G5 của sheet Tong hop . | G62: =HYPERLINK("https://dvdaddin.dvdpm.net/vi/commands/reference/btnSyncFormat","Mở hướng dẫn") -> Mở hướng dẫn
A63: 59 | B63: DVD Cons | C63: Hệ thống kết nối | D63: Quản trị viên | E63: — (không cần dữ liệu mẫu) | G63: =HYPERLINK("https://dvdaddin.dvdpm.net/vi/commands/reference/btnAdmin","Mở hướng dẫn") -> Mở hướng dẫn
A64: 60 | B64: DVD Cons | C64: ⚡ Thao tác nhanh | D64: Tìm lệnh nhanh | E64: — (không cần dữ liệu mẫu) | G64: =HYPERLINK("https://dvdaddin.dvdpm.net/vi/commands/reference/btnQuickActions","Mở hướng dẫn") -> Mở hướng dẫn
A65: 61 | B65: DVD Addin | C65: Văn bản và Số | D65: Đánh số | E65: Đánh số | F65: Bôi đen cột STT cần đánh số . Ô gộp A5:A7 chỉ tính là một ô; dòng đang ẩn (dòng 9, ví dụ do lọc) được bỏ qua. | G65: =HYPERLINK("https://dvdaddin.dvdpm.net/vi/commands/reference/btnNumbering","Mở hướng dẫn") -> Mở hướng dẫn
A66: 62 | B66: DVD Addin | C66: Văn bản và Số | D66: Số La Mã | E66: Số La Mã | F66: Bôi đen các ô cần điền số La Mã — ở đây là cột STT của các hạng mục lớn . | G66: =HYPERLINK("https://dvdaddin.dvdpm.net/vi/commands/reference/btnRomanSerial","Mở hướng dẫn") -> Mở hướng dẫn
A67: 63 | B67: DVD Addin | C67: Văn bản và Số | D67: Chữ HOA | E67: Chữ HOA | F67: Bôi đen cột cần điền ký hiệu chữ . Ô gộp A6:A7 (một phụ lục gồm hai tài liệu) chỉ tính là một ô. | G67: =HYPERLINK("https://dvdaddin.dvdpm.net/vi/commands/reference/btnUpperLettersSerial","Mở hướng dẫn") -> Mở hướng dẫn
A68: 64 | B68: DVD Addin | C68: Văn bản và Số | D68: Chữ thường | E68: Chữ thường | F68: Bôi đen các ô TT của các lớp chi tiết thuộc mục 2 . | G68: =HYPERLINK("https://dvdaddin.dvdpm.net/vi/commands/reference/btnLowerLettersSerial","Mở hướng dẫn") -> Mở hướng dẫn
A69: 65 | B69: DVD Addin | C69: Văn bản và Số | D69: Đánh Level | E69: Đánh Level | F69: Chuẩn bị bảng: tô màu nền cột nội dung theo cấp ; lập bảng chú giải màu, mỗi ô một cấp, trên→dưới là cấp 1, 2, 3 ; chừa cột Level ở bên phải cùng để nhận kết quả . | G69: =HYPERLINK("https://dvdaddin.dvdpm.net/vi/commands/reference/btnAssignLevel","Mở hướng dẫn") -> Mở hướng dẫn
A70: 66 | B70: DVD Addin | C70: Văn bản và Số | D70: Chấm tròn đặc | E70: Chấm tròn đặc | F70: Bôi đen các ô cần thêm ký hiệu . Ô có nhiều dòng (xuống dòng bằng Alt+Enter) sẽ được thêm ký hiệu ở từng dòng. | G70: =HYPERLINK("https://dvdaddin.dvdpm.net/vi/commands/reference/btnBlackCircle","Mở hướng dẫn") -> Mở hướng dẫn
A71: 67 | B71: DVD Addin | C71: Văn bản và Số | D71: Sao đặc | E71: Sao đặc | F71: Bôi đen các ô cần nhấn mạnh — ở đây là ba điểm dừng bắt buộc (H) của kế hoạch ITP . | G71: =HYPERLINK("https://dvdaddin.dvdpm.net/vi/commands/reference/btnBlackStar","Mở hướng dẫn") -> Mở hướng dẫn
A72: 68 | B72: DVD Addin | C72: Văn bản và Số | D72: Gạch ngang | E72: Gạch ngang | F72: Bôi đen các ô cần thêm ký hiệu — ở đây là hai ô liệt kê vật liệu, mỗi vật liệu một dòng . | G72: =HYPERLINK("https://dvdaddin.dvdpm.net/vi/commands/reference/btnMinusSign","Mở hướng dẫn") -> Mở hướng dẫn
A73: 69 | B73: DVD Addin | C73: Văn bản và Số | D73: Kim cương đặc | E73: Kim cương đặc | F73: Bôi đen các ô cần thêm ký hiệu — ở đây là cột mốc tiến độ . | G73: =HYPERLINK("https://dvdaddin.dvdpm.net/vi/commands/reference/btnBlackDiamond","Mở hướng dẫn") -> Mở hướng dẫn
A74: 70 | B74: DVD Addin | C74: Văn bản và Số | D74: Dấu cộng | E74: Dấu cộng | F74: Bôi đen các ô cần thêm ký hiệu — ở đây là nội dung các hạng mục phát sinh . | G74: =HYPERLINK("https://dvdaddin.dvdpm.net/vi/commands/reference/btnPlusSign","Mở hướng dẫn") -> Mở hướng dẫn
A75: 71 | B75: DVD Addin | C75: Văn bản và Số | D75: Hoa thị | E75: Hoa thị | F75: Chọn ô ghi chú cuối bảng — ô gộp nhiều dòng, mỗi điều kiện một dòng . | G75: =HYPERLINK("https://dvdaddin.dvdpm.net/vi/commands/reference/btnAsterisk","Mở hướng dẫn") -> Mở hướng dẫn
A76: 72 | B76: DVD Addin | C76: Văn bản và Số | D76: Checkbox | E76: Checkbox | F76: Bôi đen các đầu mục cần đánh dấu . | G76: =HYPERLINK("https://dvdaddin.dvdpm.net/vi/commands/reference/btnCheckbox","Mở hướng dẫn") -> Mở hướng dẫn
A77: 73 | B77: DVD Addin | C77: Văn bản và Số | D77: Đã tích | E77: Đã tích | F77: Bôi đen các dòng đã hoàn thành — ở đây là ba hồ sơ đã nộp . | G77: =HYPERLINK("https://dvdaddin.dvdpm.net/vi/commands/reference/btnVCheckbox","Mở hướng dẫn") -> Mở hướng dẫn
A78: 74 | B78: DVD Addin | C78: Văn bản và Số | D78: Loại | E78: Loại | F78: Bôi đen các mục không đạt . | G78: =HYPERLINK("https://dvdaddin.dvdpm.net/vi/commands/reference/btnXCheckbox","Mở hướng dẫn") -> Mở hướng dẫn
A79: 75 | B79: DVD Addin | C79: Văn bản và Số | D79: Bỏ ký hiệu đầu dòng | E79: Bỏ ký hiệu đầu dòng | F79: Bôi đen các ô đang có ký hiệu đầu dòng (●, −, ★, ☐…) cần gỡ . | G79: =HYPERLINK("https://dvdaddin.dvdpm.net/vi/commands/reference/btnNone_1","Mở hướng dẫn") -> Mở hướng dẫn
A80: 76 | B80: DVD Addin | C80: Văn bản và Số | D80: Danh sách số | E80: Danh sách số | F80: Bôi đen các ô cần đánh số . Ô nhiều dòng (Alt+Enter) sẽ nhận một số cho mỗi dòng. | G80: =HYPERLINK("https://dvdaddin.dvdpm.net/vi/commands/reference/btnNumberingList","Mở hướng dẫn") -> Mở hướng dẫn
A81: 77 | B81: DVD Addin | C81: Văn bản và Số | D81: Danh sách La Mã | E81: Danh sách La Mã | F81: Bôi đen các ô hạng mục lớn cần đánh số La Mã . | G81: =HYPERLINK("https://dvdaddin.dvdpm.net/vi/commands/reference/btnRomanList","Mở hướng dẫn") -> Mở hướng dẫn
A82: 78 | B82: DVD Addin | C82: Văn bản và Số | D82: Danh sách HOA | E82: Danh sách HOA | F82: Bôi đen các ô mục lớn cần đánh chữ . | G82: =HYPERLINK("https://dvdaddin.dvdpm.net/vi/commands/reference/btnUpperLettersList","Mở hướng dẫn") -> Mở hướng dẫn
A83: 79 | B83: DVD Addin | C83: Văn bản và Số | D83: Danh sách thường | E83: Danh sách thường | F83: Bôi đen các ô đầu việc con cần đánh chữ . | G83: =HYPERLINK("https://dvdaddin.dvdpm.net/vi/commands/reference/btnLowerLettersList","Mở hướng dẫn") -> Mở hướng dẫn
A84: 80 | B84: DVD Addin | C84: Văn bản và Số | D84: Bỏ đánh số danh sách | E84: Bỏ đánh số danh sách | F84: Bôi đen các ô có tiền tố đánh số cần gỡ — ở đây số đã sai sau khi chèn dòng (hai mục cùng số 3) . | G84: =HYPERLINK("https://dvdaddin.dvdpm.net/vi/commands/reference/btnNone_2","Mở hướng dẫn") -> Mở hướng dẫn
A85: 81 | B85: DVD Addin | C85: Văn bản và Số | D85: Đa cấp 1.1.1 | E85: Đa cấp 1.1.1 | F85: Dựng cây phân cấp bằng nút Tăng thụt lề (Increase Indent) trên tab Trang đầu: mức thụt nhỏ nhất là cấp 1, mức kế tiếp cấp 2… Rồi bôi đen cả cột hạng mục, từ cấp cao nhất . | G85: =HYPERLINK("https://dvdaddin.dvdpm.net/vi/commands/reference/btnMultilevelNumbering","Mở hướng dẫn") -> Mở hướng dẫn
A86: 82 | B86: DVD Addin | C86: Văn bản và Số | D86: Bỏ đánh số đa cấp | E86: Bỏ đánh số đa cấp | F86: Bôi đen các ô đang mang số đa cấp cần gỡ — thường làm trước khi đánh số lại vì đã chèn thêm hạng mục . | G86: =HYPERLINK("https://dvdaddin.dvdpm.net/vi/commands/reference/btnNone_3","Mở hướng dẫn") -> Mở hướng dẫn
A87: 83 | B87: DVD Addin | C87: Văn bản và Số | D87: Hoa đầu câu | E87: Hoa đầu câu | F87: Bôi đen các ô văn bản cần chuẩn hóa, ví dụ cột diễn giải công việc gõ lộn xộn hoa/thường và thừa dấu cách . | G87: =HYPERLINK("https://dvdaddin.dvdpm.net/vi/commands/reference/btnSentencecase","Mở hướng dẫn") -> Mở hướng dẫn
A88: 84 | B88: DVD Addin | C88: Văn bản và Số | D88: HOA TOÀN BỘ | E88: HOA TOÀN BỘ | F88: Bôi đen vùng ô cần chuyển sang chữ hoa . | G88: =HYPERLINK("https://dvdaddin.dvdpm.net/vi/commands/reference/btnUPPERCASE","Mở hướng dẫn") -> Mở hướng dẫn
A89: 85 | B89: DVD Addin | C89: Văn bản và Số | D89: thường toàn bộ | E89: thường toàn bộ | F89: Bôi đen các ô cần hạ về chữ thường, ví dụ danh mục công tác nhận về gõ toàn chữ HOA hoặc hoa lẫn lộn . | G89: =HYPERLINK("https://dvdaddin.dvdpm.net/vi/commands/reference/btnlowercase","Mở hướng dẫn") -> Mở hướng dẫn
A90: 86 | B90: DVD Addin | C90: Văn bản và Số | D90: Hoa Đầu Mỗi Từ | E90: Hoa Đầu Mỗi Từ | F90: Bôi đen cột cần chuẩn hóa, ví dụ cột họ tên / đơn vị trong bảng nhân lực công trường nhập hoa thường lẫn lộn . | G90: =HYPERLINK("https://dvdaddin.dvdpm.net/vi/commands/reference/btnProperCase","Mở hướng dẫn") -> Mở hướng dẫn
A91: 87 | B91: DVD Addin | C91: Văn bản và Số | D91: Hoa theo ngữ cảnh (AI) | E91: Hoa theo ngữ cảnh (AI) | F91: Lệnh cần dịch vụ AI đã chọn và khoá API trong Tùy chọn. Bôi đen các ô văn bản gõ liền tay không phân biệt hoa thường . | G91: =HYPERLINK("https://dvdaddin.dvdpm.net/vi/commands/reference/btnSMARTCase","Mở hướng dẫn") -> Mở hướng dẫn
A92: 88 | B92: DVD Addin | C92: Văn bản và Số | D92: In nghiêng | E92: In nghiêng | F92: Bôi đen các ô song ngữ, mỗi ô hai dòng ngăn bằng Alt+Enter: dòng trên tiếng Việt, dòng dưới tiếng Anh . | G92: =HYPERLINK("https://dvdaddin.dvdpm.net/vi/commands/reference/btnRegularItalic","Mở hướng dẫn") -> Mở hướng dẫn
A93: 89 | B93: DVD Addin | C93: Văn bản và Số | D93: Đảo ngược | E93: Đảo ngược | F93: Bôi đen các ô cần đảo, ví dụ danh mục ghi theo kiểu "Tên công tác - Mã hiệu" mà bạn muốn đưa mã hiệu định mức lên trước . | G93: =HYPERLINK("https://dvdaddin.dvdpm.net/vi/commands/reference/btnTextReverse","Mở hướng dẫn") -> Mở hướng dẫn
A94: 90 | B94: DVD Addin | C94: Văn bản và Số | D94: Đổi Font | E94: Đổi Font | F94: Bôi đen các ô song ngữ cần đổi font từng phần, ví dụ hàng tiêu đề viết kiểu Tiếng Việt / English . | G94: =HYPERLINK("https://dvdaddin.dvdpm.net/vi/commands/reference/btnRegularFontChange","Mở hướng dẫn") -> Mở hướng dẫn
A95: 91 | B95: DVD Addin | C95: Văn bản và Số | D95: Xoá space thừa | E95: Xoá space thừa | F95: Bôi đen vùng văn bản cần dọn, ví dụ cột tên công tác dán từ bảng dự toán bị dư dấu cách ở đầu, cuối và giữa chữ . Cột =LEN(B2) cho thấy khoảng trắng thừa mà mắt không thấy. | G95: =HYPERLINK("https://dvdaddin.dvdpm.net/vi/commands/reference/btnRemoveSpaces","Mở hướng dẫn") -> Mở hướng dẫn
A96: 92 | B96: DVD Addin | C96: Văn bản và Số | D96: Chèn text | E96: Chèn text | F96: Bôi đen các ô cần thêm chữ, ví dụ danh mục công tác của hạng mục móng M1 cần gắn tiền tố mã hạng mục . | G96: =HYPERLINK("https://dvdaddin.dvdpm.net/vi/commands/reference/btnAddText","Mở hướng dẫn") -> Mở hướng dẫn
A97: 93 | B97: DVD Addin | C97: Văn bản và Số | D97: Xoá dấu | E97: Xoá dấu | F97: Bôi đen các ô văn bản có dấu cần bỏ dấu, ví dụ tên hạng mục dùng để đặt tên thư mục hồ sơ nghiệm thu . | G97: =HYPERLINK("https://dvdaddin.dvdpm.net/vi/commands/reference/btnRemoveAccents","Mở hướng dẫn") -> Mở hướng dẫn
A98: 94 | B98: DVD Addin | C98: Văn bản và Số | D98: Thêm dấu (AI) | E98: Thêm dấu (AI) | F98: Lệnh cần dịch vụ AI và khoá API đã cấu hình trong Tùy chọn. Bôi đen cột văn bản gõ không dấu, ví dụ nhật ký thi công gõ vội trên điện thoại ; ô đã có dấu trong vùng chọn sẽ được bỏ qua. | G98: =HYPERLINK("https://dvdaddin.dvdpm.net/vi/commands/reference/btnAddAccents","Mở hướng dẫn") -> Mở hướng dẫn
A99: 95 | B99: DVD Addin | C99: Văn bản và Số | D99: Auto format số/ngày | E99: Auto format số-ngày | F99: Bôi đen cột khối lượng và cột ngày đang lưu dạng chữ (căn trái) — vì vậy hàng Cộng dùng SUM ra 0 . | G99: =HYPERLINK("https://dvdaddin.dvdpm.net/vi/commands/reference/btnFormatAuto","Mở hướng dẫn") -> Mở hướng dẫn
A100: 96 | B100: DVD Addin | C100: Văn bản và Số | D100: Superscript m² | E100: Superscript m² | F100: Bôi đen cột đơn vị của bảng khối lượng (hoặc cả vùng có chứa đơn vị đo) . | G100: =HYPERLINK("https://dvdaddin.dvdpm.net/vi/commands/reference/btnSuperscript","Mở hướng dẫn") -> Mở hướng dẫn
A101: 97 | B101: DVD Addin | C101: Văn bản và Số | D101: Subscript H₂O | E101: Subscript H₂O | F101: Bôi đen các ô có công thức hoá học, ví dụ bảng thành phần và chỉ tiêu nước trộn bê tông — ô có câu văn xen ký hiệu hoá học cũng được. | G101: =HYPERLINK("https://dvdaddin.dvdpm.net/vi/commands/reference/btnSubscript","Mở hướng dẫn") -> Mở hướng dẫn
...

Sheet Vẽ tiến độ
A1: TIẾN ĐỘ THI CÔNG PHẦN MÓNG – NHÀ VĂN PHÒNG 9 TẦNG | I1: ← Mục lục
A2: Mã công tác | B2: Tên công tác | C2: Thời lượng | D2: Bắt đầu | E2: Kết thúc
A4: A1010 | B4: Đào đất hố móng | C4: 6 | D4: 46300 | E4: 46305
A5: A1020 | B5: Đổ bê tông lót móng | C5: 2 | D5: 46307 | E5: 46308
A6: A1030 | B6: Cốt thép, ván khuôn đài móng | C6: 8 | D6: 46309 | E6: 46317
A7: A1040 | B7: Bê tông đài, giằng móng | C7: 2 | D7: 46318 | E7: 46319
A8: A1050 | B8: Lấp đất, tôn nền tầng 1 | C8: 6 | D8: 46321 | E8: 46326
A9: A1060 | B9: Nghiệm thu phần móng | C9: 0 | E9: 46328

Sheet Tự động tính
A1: Mã công tác | B1: Tên công tác | C1: Thời lượng | D1: Bắt đầu | E1: Kết thúc | F1: Công tác trước | H1: ← Mục lục
A2: A1010 | B2: Đào đất hố móng | C2: 4 | D2: 46300 | E2: 46305
A3: A1020 | B3: Đổ bê tông lót móng | C3: 2 | D3: 46307 | E3: 46308 | F3: A1010FS
A4: A1030 | B4: Cốt thép, ván khuôn đài móng | C4: 8 | D4: 46309 | E4: 46317 | F4: A1020FS
A5: A1040 | B5: Bê tông đài, giằng móng | C5: 2 | D5: 46318 | E5: 46319 | F5: A1030FS
A6: A1050 | B6: Lấp đất, tôn nền tầng 1 | C6: 6 | D6: 46321 | E6: 46326 | F6: A1040FS
A7: A1060 | B7: Nghiệm thu phần móng | C7: 0 | E7: 46328 | F7: A1050FS

Sheet Tự động vẽ
A1: TIẾN ĐỘ THI CÔNG PHẦN MÓNG – NHÀ VĂN PHÒNG 9 TẦNG | N1: ← Mục lục
A2: Mã công tác | B2: Tên công tác | C2: Thời lượng | D2: Bắt đầu | E2: Kết thúc | F2: tháng 10 2026 | K2: tháng 11 2026
F3: W40 | G3: W41 | H3: W42 | I3: W43 | J3: W44 | K3: W45 | L3: W46
A4: A1010 | B4: Đào đất hố móng | C4: 8 | D4: 46300 | E4: 46305 | G4: ▀▀▀▀
A5: A1020 | B5: Đổ bê tông lót móng | C5: 2 | D5: 46307 | E5: 46308 | H5: ▀
A6: A1030 | B6: Cốt thép, ván khuôn đài móng | C6: 8 | D6: 46309 | E6: 46317 | H6: ▀▀▀▀▀▀
A7: A1040 | B7: Bê tông đài, giằng móng | C7: 2 | D7: 46318 | E7: 46319 | I7: ▀
A8: A1050 | B8: Lấp đất, tôn nền tầng 1 | C8: 6 | D8: 46321 | E8: 46326 | J8: ▀▀▀▀
A9: A1060 | B9: Nghiệm thu phần móng | C9: 0 | E9: 46328 | K9: ◆

Sheet Cập nhật tiến độ (ngày dữ liệu)
A1: Mã công tác | B1: Tên công tác | C1: Thời lượng | D1: Bắt đầu | E1: Kết thúc | F1: Bắt đầu thực tế | G1: Kết thúc thực tế | H1: Hoàn thành (%) | J1: ← Mục lục
A2: A1010 | B2: Đào đất hố móng | C2: 6 | D2: 46300 | E2: 46305 | F2: 46300 | G2: 46305 | H2: 1
A3: A1020 | B3: Đổ bê tông lót móng | C3: 2 | D3: 46307 | E3: 46309 | F3: 46307 | G3: 46309 | H3: 1
A4: A1030 | B4: Cốt thép, ván khuôn đài móng | C4: 8 | D4: 46310 | E4: 46318 | F4: 46310 | H4: 0.25
A5: A1035 | B5: Gia công thép chờ cột tầng 1 | C5: 3 | D5: 46310 | E5: 46312 | H5: 0
A6: A1040 | B6: Bê tông đài, giằng móng | C6: 2 | D6: 46319 | E6: 46321 | H6: 0
A7: A1050 | B7: Lấp đất, tôn nền tầng 1 | C7: 6 | D7: 46322 | E7: 46328 | H7: 0
A8: A1060 | B8: Nghiệm thu phần móng | C8: 0 | E8: 46329 | H8: 0

Sheet Cập nhật trạng thái
A1: Tên công tác | B1: Thời lượng | C1: Bắt đầu | D1: Kết thúc | E1: Hoàn thành | F1: BĐ thực tế | G1: KT thực tế | H1: BAC | I1: EV | M1: ← Mục lục
A2: BT cột T2 | B2: 4 | C2: 05/10 | D2: 08/10 | E2: 1 | F2: 05/10 | G2: 08/10 | H2: 120 | I2: 120
A3: Thép sàn T2 | B3: 8 | C3: 09/10 | D3: 17/10 | E3: 1 | F3: 09/10 | G3: 19/10 | H3: 260 | I3: 260
A4: Xây tường T1 | B4: 10 | C4: 12/10 | D4: 23/10 | E4: 0.6 | F4: 13/10 | H4: 150 | I4: 90
A5: BT cột T3 | B5: 3 | C5: 19/10 | D5: 21/10 | E5: 0.5 | F5: 20/10 | H5: 90 | I5: 45
A6: Điện âm T1 | B6: 5 | C6: 16/10 | D6: 21/10 | E6: 0 | H6: 70 | I6: 0
A7: Trát tường T1 | B7: 8 | C7: 26/10 | D7: 03/11 | E7: 0 | H7: 180 | I7: 0

Sheet Ràng buộc
A1: Mã công tác | B1: Tên công tác | C1: Thời lượng | D1: Bắt đầu | E1: Kết thúc | F1: Công tác trước | I1: ← Mục lục
A2: A1010 | B2: Đào đất hố móng | C2: 6 | D2: 46300 | E2: 46305
A3: A1020 | B3: Đổ bê tông lót móng | C3: 2 | D3: 46307 | E3: 46308 | F3: A1010FS
A4: A1030 | B4: Cốt thép, ván khuôn đài móng | C4: 8 | D4: 46309 | E4: 46317 | F4: A1020FS
A5: A1040 | B5: Bê tông đài, giằng móng | C5: 2 | D5: 46318 | E5: 46319 | F5: A1030FS
A6: A1050 | B6: Lấp đất, tôn nền tầng 1 | C6: 6 | D6: 46321 | E6: 46326 | F6: A1040FS
A7: A1070 | B7: Lắp dựng cẩu tháp | C7: 3 | D7: 46321 | E7: 46323 | F7: A1040FS

Sheet Ngôn ngữ tiêu đề
A1: TIẾN ĐỘ — Nhà văn phòng 9 tầng | I1: ← Mục lục
A2: Activity ID | B2: Activity Name | C2: Duration | D2: Start | E2: Finish | F2: Predecessors | G2: Complete (%)
A3: A1010 | B3: Đào đất hố móng | C3: 6 | D3: 46300 | E3: 46305 | G3: 1
A4: A1020 | B4: Đổ bê tông lót móng | C4: 2 | D4: 46307 | E4: 46308 | F4: A1010FS | G4: 1
A5: A1030 | B5: Cốt thép, ván khuôn đài móng | C5: 8 | D5: 46309 | E5: 46317 | F5: A1020FS | G5: 0.4
A6: A1040 | B6: Bê tông đài, giằng móng | C6: 2 | D6: 46318 | E6: 46319 | F6: A1030FS | G6: 0
A7: A1050 | B7: Lấp đất, tôn nền tầng 1 | C7: 6 | D7: 46321 | E7: 46326 | F7: A1040FS | G7: 0

Sheet Xuất XML (P6-MSP)
A1: Mã công tác | B1: Tên công tác | C1: Thời lượng | D1: Bắt đầu | E1: Kết thúc | F1: Công tác trước | H1: ← Mục lục
A2: A1010 | B2: Đào đất hố móng | C2: 6 | D2: 46300 | E2: 46305
A3: A1020 | B3: Đổ bê tông lót móng | C3: 2 | D3: 46307 | E3: 46308 | F3: A1010FS
A4: A1030 | B4: Cốt thép, ván khuôn đài móng | C4: 8 | D4: 46309 | E4: 46317 | F4: A1020FS
A5: A1040 | B5: Bê tông đài, giằng móng | C5: 2 | D5: 46318 | E5: 46319 | F5: A1030FS
A6: A1050 | B6: Lấp đất, tôn nền tầng 1 | C6: 6 | D6: 46321 | E6: 46326 | F6: A1040FS
A7: A1060 | B7: Nghiệm thu phần móng | C7: 0 | E7: 46328 | F7: A1050FS

Sheet AI Lập tiến độ
A1: BẢNG KHỐI LƯỢNG – NHÀ VĂN PHÒNG 9 TẦNG | F1: ← Mục lục
A3: Mã hiệu | B3: Tên công việc | C3: Đơn vị | D3: Khối lượng
A4: AB.25112 | B4: Đào móng bằng máy đào, đất cấp II | C4: 100m³ | D4: 12.5
A5: AF.11111 | B5: Bê tông lót móng đá 4x6, M100 | C5: m³ | D5: 38.4
A6: AF.61120 | B6: Cốt thép móng, đường kính ≤18 mm | C6: tấn | D6: 24.6
A7: AF.81122 | B7: Ván khuôn móng | C7: 100m² | D7: 3.85
A8: AF.21225 | B8: Bê tông móng đá 1x2, M300 | C8: m³ | D8: 286.5
A9: AB.13112 | B9: Đắp đất nền móng, độ chặt K95 | C9: m³ | D9: 420
A10: AF.22245 | B10: Bê tông cột đá 1x2, M350 | C10: m³ | D10: 42.8
A11: AF.22345 | B11: Bê tông dầm, sàn đá 1x2, M300 | C11: m³ | D11: 156.2

Sheet Đề xuất tiến độ
A1: TIẾN ĐỘ THI CÔNG — NHÀ VĂN PHÒNG 9 TẦNG | H1: ← Mục lục
A2: Mã công tác | B2: Tên công tác | C2: Thời lượng | D2: Bắt đầu | E2: Kết thúc | F2: Hoàn thành (%)
A3: A1010 | B3: Bê tông cột tầng 3 | C3: 6 | D3: 46272 | E3: 46277 | F3: 1
A4: A1020 | B4: Cốp pha, cốt thép sàn tầng 3 | C4: 15 | D4: 46279 | E4: 46295 | F4: 0.75
A5: A1030 | B5: Bê tông dầm sàn tầng 3 | C5: 2 | D5: 46296 | E5: 46297 | F5: 0
A6: A1040 | B6: Cốt thép, cốp pha cột tầng 4 | C6: 6 | D6: 46300 | E6: 46305 | F6: 0
A7: A2010 | B7: Xây tường tầng 1 | C7: 18 | D7: 46279 | E7: 46298 | F7: 0.55
A8: A2020 | B8: Xây tường tầng 2 | C8: 12 | D8: 46300 | E8: 46312 | F8: 0
A9: A3010 | B9: Lắp ống cấp thoát nước tầng 1 | C9: 11 | D9: 46286 | E9: 46297 | F9: 0.3
A10: A3020 | B10: Đi dây điện âm tường tầng 1 | C10: 6 | D10: 46293 | E10: 46298 | F10: 0.1

Sheet Kiểm tra chất lượng
A1: TIẾN ĐỘ THI CÔNG — NHÀ VĂN PHÒNG 9 TẦNG | L1: ← Mục lục
A2: Mã công tác | B2: Tên công tác | C2: Thời lượng | D2: Bắt đầu | E2: Kết thúc | F2: Công tác trước | G2: Bắt đầu thực tế | H2: Kết thúc thực tế | I2: Hoàn thành (%) | J2: Tổng trôi
A3: A1010 | B3: Bê tông cột tầng 3 | C3: 6 | D3: 46272 | E3: 46277 | G3: 46272 | H3: 46277 | I3: 1 | J3: 0
A4: A1020 | B4: Cốp pha, cốt thép sàn tầng 3 | C4: 15 | D4: 46279 | E4: 46295 | F4: A1010 | G4: 46279 | I4: 0.75 | J4: 6
A5: A1030 | B5: Bê tông dầm sàn tầng 3 | C5: 2 | D5: 46296 | E5: 46297 | F5: A1020 | I5: 0 | J5: 6
A6: A1040 | B6: Cốt thép, cốp pha cột tầng 4 | C6: 6 | D6: 46300 | E6: 46305 | F6: A1030FS+2 | I6: 0 | J6: 6
A7: A2010 | B7: Xây tường tầng 1 | C7: 18 | D7: 46279 | E7: 46298 | F7: A1010 | G7: 46279 | I7: 0.55 | J7: 0
A8: A2020 | B8: Xây tường tầng 2 | C8: 12 | D8: 46300 | E8: 46312 | F8: A2010 | I8: 0 | J8: 0
A9: A3010 | B9: Lắp ống cấp thoát nước tầng 1 | C9: 11 | D9: 46286 | E9: 46297 | F9: A2010SS+6 | G9: 46286 | I9: 0.3 | J9: 12
A10: A3020 | B10: Đi dây điện âm tường tầng 1 | C10: 6 | D10: 46293 | E10: 46298 | F10: A3010SS+6 | G10: 46293 | I10: 0.1 | J10: 12

Sheet Báo cáo EVM
A1: TIẾN ĐỘ THI CÔNG — NHÀ VĂN PHÒNG 9 TẦNG | J1: ← Mục lục
A2: Mã công tác | B2: Tên công tác | C2: Thời lượng | D2: Bắt đầu | E2: Kết thúc | F2: Hoàn thành (%) | G2: BAC | H2: AC
A3: A1010 | B3: Bê tông cột tầng 3 | C3: 6 | D3: 46272 | E3: 46277 | F3: 1 | G3: 420000000 | H3: 436000000
A4: A1020 | B4: Cốp pha, cốt thép sàn tầng 3 | C4: 15 | D4: 46279 | E4: 46295 | F4: 0.75 | G4: 1250000000 | H4: 1010000000
A5: A1030 | B5: Bê tông dầm sàn tầng 3 | C5: 2 | D5: 46296 | E5: 46297 | F5: 0 | G5: 980000000
A6: A1040 | B6: Cốt thép, cốp pha cột tầng 4 | C6: 6 | D6: 46300 | E6: 46305 | F6: 0 | G6: 510000000
A7: A2010 | B7: Xây tường tầng 1 | C7: 18 | D7: 46279 | E7: 46298 | F7: 0.55 | G7: 640000000 | H7: 372000000
A8: A2020 | B8: Xây tường tầng 2 | C8: 12 | D8: 46300 | E8: 46312 | F8: 0 | G8: 610000000
A9: A3010 | B9: Lắp ống cấp thoát nước tầng 1 | C9: 11 | D9: 46286 | E9: 46297 | F9: 0.3 | G9: 360000000 | H9: 126000000
A10: A3020 | B10: Đi dây điện âm tường tầng 1 | C10: 6 | D10: 46293 | E10: 46298 | F10: 0.1 | G10: 240000000 | H10: 30000000

Sheet Bảng chênh lệch tiến độ
A1: TIẾN ĐỘ THI CÔNG — NHÀ VĂN PHÒNG 9 TẦNG | L1: ← Mục lục
A2: Mã công tác | B2: Tên công tác | C2: Thời lượng | D2: Bắt đầu | E2: Kết thúc | F2: Bắt đầu thực tế | G2: Kết thúc thực tế | H2: Hoàn thành (%) | I2: BAC | J2: AC
A3: A1010 | B3: Bê tông cột tầng 3 | C3: 6 | D3: 46272 | E3: 46277 | F3: 46272 | G3: 46277 | H3: 1 | I3: 420000000 | J3: 436000000
A4: A1020 | B4: Cốp pha, cốt thép sàn tầng 3 | C4: 15 | D4: 46279 | E4: 46295 | F4: 46279 | H4: 0.75 | I4: 1250000000 | J4: 1010000000
A5: A1030 | B5: Bê tông dầm sàn tầng 3 | C5: 2 | D5: 46296 | E5: 46297 | H5: 0 | I5: 980000000
A6: A1040 | B6: Cốt thép, cốp pha cột tầng 4 | C6: 6 | D6: 46300 | E6: 46305 | H6: 0 | I6: 510000000
A7: A2010 | B7: Xây tường tầng 1 | C7: 18 | D7: 46279 | E7: 46298 | F7: 46279 | H7: 0.55 | I7: 640000000 | J7: 372000000
A8: A2020 | B8: Xây tường tầng 2 | C8: 12 | D8: 46300 | E8: 46312 | H8: 0 | I8: 610000000
A9: A3010 | B9: Lắp ống cấp thoát nước tầng 1 | C9: 11 | D9: 46286 | E9: 46297 | F9: 46286 | H9: 0.3 | I9: 360000000 | J9: 126000000
A10: A3020 | B10: Đi dây điện âm tường tầng 1 | C10: 6 | D10: 46293 | E10: 46298 | F10: 46293 | H10: 0.1 | I10: 240000000 | J10: 30000000

Sheet Kế hoạch 2 tuần tới
A1: TIẾN ĐỘ THI CÔNG — NHÀ VĂN PHÒNG 9 TẦNG | J1: ← Mục lục
A2: Mã công tác | B2: Tên công tác | C2: Thời lượng | D2: Bắt đầu | E2: Kết thúc | F2: Bắt đầu thực tế | G2: Kết thúc thực tế | H2: Hoàn thành (%)
A3: A1010 | B3: Bê tông cột tầng 3 | C3: 6 | D3: 46272 | E3: 46277 | F3: 46272 | G3: 46277 | H3: 1
A4: A1020 | B4: Cốp pha, cốt thép sàn tầng 3 | C4: 15 | D4: 46279 | E4: 46295 | F4: 46279 | H4: 0.75
A5: A1030 | B5: Bê tông dầm sàn tầng 3 | C5: 2 | D5: 46296 | E5: 46297 | H5: 0
A6: A1040 | B6: Cốt thép, cốp pha cột tầng 4 | C6: 6 | D6: 46300 | E6: 46305 | H6: 0
A7: A2010 | B7: Xây tường tầng 1 | C7: 18 | D7: 46279 | E7: 46298 | F7: 46279 | H7: 0.55
A8: A2020 | B8: Xây tường tầng 2 | C8: 12 | D8: 46300 | E8: 46312 | H8: 0
A9: A3005 | B9: Đặt ống chờ M&E sàn tầng 2 | C9: 8 | D9: 46275 | E9: 46283 | F9: 46275 | H9: 0.8
A10: A3010 | B10: Lắp ống cấp thoát nước tầng 1 | C10: 11 | D10: 46286 | E10: 46297 | F10: 46286 | H10: 0.3
A11: A3020 | B11: Đi dây điện âm tường tầng 1 | C11: 6 | D11: 46293 | E11: 46298 | F11: 46293 | H11: 0.1

Sheet Kế hoạch 3 tuần tới
A1: TIẾN ĐỘ THI CÔNG — NHÀ VĂN PHÒNG 9 TẦNG | J1: ← Mục lục
A2: Mã công tác | B2: Tên công tác | C2: Thời lượng | D2: Bắt đầu | E2: Kết thúc | F2: Bắt đầu thực tế | G2: Kết thúc thực tế | H2: Hoàn thành (%)
A3: A1010 | B3: Bê tông cột tầng 3 | C3: 6 | D3: 46272 | E3: 46277 | F3: 46272 | G3: 46277 | H3: 1
A4: A1020 | B4: Cốp pha, cốt thép sàn tầng 3 | C4: 15 | D4: 46279 | E4: 46295 | F4: 46279 | H4: 0.75
A5: A1030 | B5: Bê tông dầm sàn tầng 3 | C5: 2 | D5: 46296 | E5: 46297 | H5: 0
A6: A1040 | B6: Cốt thép, cốp pha cột tầng 4 | C6: 6 | D6: 46300 | E6: 46305 | H6: 0
A7: A2010 | B7: Xây tường tầng 1 | C7: 18 | D7: 46279 | E7: 46298 | F7: 46279 | H7: 0.55
A8: A2020 | B8: Xây tường tầng 2 | C8: 12 | D8: 46300 | E8: 46312 | H8: 0
A9: A3005 | B9: Đặt ống chờ M&E sàn tầng 2 | C9: 8 | D9: 46275 | E9: 46283 | F9: 46275 | H9: 0.8
A10: A3010 | B10: Lắp ống cấp thoát nước tầng 1 | C10: 11 | D10: 46286 | E10: 46297 | F10: 46286 | H10: 0.3
A11: A3020 | B11: Đi dây điện âm tường tầng 1 | C11: 6 | D11: 46293 | E11: 46298 | F11: 46293 | H11: 0.1

Sheet Sinh tiến độ (khoảng tùy chọn)
A1: TIẾN ĐỘ THI CÔNG — NHÀ VĂN PHÒNG 9 TẦNG | H1: ← Mục lục
A2: Mã công tác | B2: Tên công tác | C2: Thời lượng | D2: Bắt đầu | E2: Kết thúc | F2: Công tác trước
A3: A1010 | B3: Bê tông cột tầng 3 | C3: 6 | D3: 46272 | E3: 46277
A4: A1020 | B4: Cốp pha, cốt thép sàn tầng 3 | C4: 15 | D4: 46279 | E4: 46295 | F4: A1010
A5: A1030 | B5: Bê tông dầm sàn tầng 3 | C5: 2 | D5: 46296 | E5: 46297 | F5: A1020
A6: A1040 | B6: Cốt thép, cốp pha cột tầng 4 | C6: 6 | D6: 46300 | E6: 46305 | F6: A1030FS+2
A7: A2010 | B7: Xây tường tầng 1 | C7: 18 | D7: 46279 | E7: 46298 | F7: A1010
A8: A2020 | B8: Xây tường tầng 2 | C8: 12 | D8: 46300 | E8: 46312 | F8: A2010
A9: A3010 | B9: Lắp ống cấp thoát nước tầng 1 | C9: 11 | D9: 46286 | E9: 46297 | F9: A2010SS+6
A10: A3020 | B10: Đi dây điện âm tường tầng 1 | C10: 6 | D10: 46293 | E10: 46298 | F10: A3010SS+6

Sheet Snapshot tuần
A1: TIẾN ĐỘ THI CÔNG — NHÀ VĂN PHÒNG 9 TẦNG | J1: ← Mục lục
A2: Mã công tác | B2: Tên công tác | C2: Thời lượng | D2: Bắt đầu | E2: Kết thúc | F2: Hoàn thành (%) | G2: BAC | H2: AC
A3: A1010 | B3: Bê tông cột tầng 3 | C3: 6 | D3: 46272 | E3: 46277 | F3: 1 | G3: 420000000 | H3: 436000000
A4: A1020 | B4: Cốp pha, cốt thép sàn tầng 3 | C4: 15 | D4: 46279 | E4: 46295 | F4: 0.75 | G4: 1250000000 | H4: 1010000000
A5: A1030 | B5: Bê tông dầm sàn tầng 3 | C5: 2 | D5: 46296 | E5: 46297 | F5: 0 | G5: 980000000
A6: A1040 | B6: Cốt thép, cốp pha cột tầng 4 | C6: 6 | D6: 46300 | E6: 46305 | F6: 0 | G6: 510000000
A7: A2010 | B7: Xây tường tầng 1 | C7: 18 | D7: 46279 | E7: 46298 | F7: 0.55 | G7: 640000000 | H7: 372000000
A8: A2020 | B8: Xây tường tầng 2 | C8: 12 | D8: 46300 | E8: 46312 | F8: 0 | G8: 610000000
A9: A3010 | B9: Lắp ống cấp thoát nước tầng 1 | C9: 11 | D9: 46286 | E9: 46297 | F9: 0.3 | G9: 360000000 | H9: 126000000
A10: A3020 | B10: Đi dây điện âm tường tầng 1 | C10: 6 | D10: 46293 | E10: 46298 | F10: 0.1 | G10: 240000000 | H10: 30000000

Sheet Nhân lực
A1: TIẾN ĐỘ THI CÔNG — NHÀ VĂN PHÒNG 9 TẦNG | H1: ← Mục lục
A2: Mã công tác | B2: Tên công tác | C2: Thời lượng | D2: Bắt đầu | E2: Kết thúc | F2: Nhân lực
A3: A1010 | B3: Bê tông cột tầng 3 | C3: 6 | D3: 46272 | E3: 46277 | F3: 12
A4: A1020 | B4: Cốp pha, cốt thép sàn tầng 3 | C4: 15 | D4: 46279 | E4: 46295 | F4: 24
A5: A1030 | B5: Bê tông dầm sàn tầng 3 | C5: 2 | D5: 46296 | E5: 46297 | F5: 30
A6: A1040 | B6: Cốt thép, cốp pha cột tầng 4 | C6: 6 | D6: 46300 | E6: 46305 | F6: 14
A7: A2010 | B7: Xây tường tầng 1 | C7: 18 | D7: 46279 | E7: 46298 | F7: 10
A8: A2020 | B8: Xây tường tầng 2 | C8: 12 | D8: 46300 | E8: 46312 | F8: 10
A9: A3010 | B9: Lắp ống cấp thoát nước tầng 1 | C9: 11 | D9: 46286 | E9: 46297 | F9: 4
A10: A3020 | B10: Đi dây điện âm tường tầng 1 | C10: 6 | D10: 46293 | E10: 46298 | F10: 4

Sheet Cân bằng nhân lực
A1: TIẾN ĐỘ THI CÔNG — NHÀ VĂN PHÒNG 9 TẦNG | I1: ← Mục lục
A2: Mã công tác | B2: Tên công tác | C2: Thời lượng | D2: Bắt đầu | E2: Kết thúc | F2: Công tác trước | G2: Nhân lực
A3: A1010 | B3: Bê tông cột tầng 3 | C3: 6 | D3: 46272 | E3: 46277 | G3: 12
A4: A1020 | B4: Cốp pha, cốt thép sàn tầng 3 | C4: 15 | D4: 46279 | E4: 46295 | F4: A1010 | G4: 24
A5: A1030 | B5: Bê tông dầm sàn tầng 3 | C5: 2 | D5: 46296 | E5: 46297 | F5: A1020 | G5: 30
A6: A1040 | B6: Cốt thép, cốp pha cột tầng 4 | C6: 6 | D6: 46300 | E6: 46305 | F6: A1030FS+2 | G6: 14
A7: A2010 | B7: Xây tường tầng 1 | C7: 18 | D7: 46279 | E7: 46298 | F7: A1010 | G7: 10
A8: A2020 | B8: Xây tường tầng 2 | C8: 12 | D8: 46300 | E8: 46312 | F8: A2010 | G8: 10
A9: A3010 | B9: Lắp ống cấp thoát nước tầng 1 | C9: 11 | D9: 46286 | E9: 46297 | F9: A2010SS+6 | G9: 4
A10: A3020 | B10: Đi dây điện âm tường tầng 1 | C10: 6 | D10: 46293 | E10: 46298 | F10: A3010SS+6 | G10: 4

Sheet Dòng tiền
A1: TIẾN ĐỘ THI CÔNG — NHÀ VĂN PHÒNG 9 TẦNG | H1: ← Mục lục
A2: Mã công tác | B2: Tên công tác | C2: Thời lượng | D2: Bắt đầu | E2: Kết thúc | F2: BAC
A3: A1010 | B3: Bê tông cột tầng 3 | C3: 6 | D3: 46272 | E3: 46277 | F3: 420000000
A4: A1020 | B4: Cốp pha, cốt thép sàn tầng 3 | C4: 15 | D4: 46279 | E4: 46295 | F4: 1250000000
A5: A1030 | B5: Bê tông dầm sàn tầng 3 | C5: 2 | D5: 46296 | E5: 46297 | F5: 980000000
A6: A1040 | B6: Cốt thép, cốp pha cột tầng 4 | C6: 6 | D6: 46300 | E6: 46305 | F6: 510000000
A7: A2010 | B7: Xây tường tầng 1 | C7: 18 | D7: 46279 | E7: 46298 | F7: 640000000
A8: A2020 | B8: Xây tường tầng 2 | C8: 12 | D8: 46300 | E8: 46312 | F8: 610000000
A9: A3010 | B9: Lắp ống cấp thoát nước tầng 1 | C9: 11 | D9: 46286 | E9: 46297 | F9: 360000000
A10: A3020 | B10: Đi dây điện âm tường tầng 1 | C10: 6 | D10: 46293 | E10: 46298 | F10: 240000000

Sheet Cắt tối ưu
A1: Ø (mm) | B1: Chiều dài (mm) | C1: Số lượng | D1: Ký hiệu | H1: ← Mục lục
A2: 8 | B2: 1320 | C2: 240 | D2: 3
A3: 12 | B3: 2080 | C3: 120 | D3: 4
A4: 20 | B4: 5700 | C4: 24 | D4: 1
A5: 20 | B5: 3880 | C5: 12 | D5: 2

Sheet Thống kê thép
A1: Ký hiệu | B1: Cấu kiện | C1: Ø (mm) | D1: Hình dạng | E1: A | F1: B | G1: C | H1: Số CK | I1: Số thanh/CK | K1: ← Mục lục
A2: 1 | B2: Dầm D1 | C2: 20 | D2: 00 | E2: 5700 | H2: 6 | I2: 4
A3: 2 | B3: Dầm D1 | C3: 20 | D3: 21 | E3: 3500 | F3: 400 | H3: 6 | I3: 2
A4: 3 | B4: Dầm D1 | C4: 8 | D4: 51 | E4: 200 | F4: 400 | H4: 6 | I4: 40
A5: 4 | B5: Sàn S5 | C5: 12 | D5: 31 | E5: 150 | F5: 1800 | G5: 150 | H5: 1 | I5: 120

Sheet Cắt thanh 1D
A1: Dài | B1: SL | C1: Vật liệu | D1: Nhãn | E1: Ưu tiên | H1: ← Mục lục
A2: 2350 | B2: 40 | C2: HOP50 | D2: Giằng ngang | E2: 0
A3: 1800 | B3: 24 | C3: HOP50 | D3: Đứng | E3: 0
A4: 950 | B4: 30 | C4: HOP50 | D4: Chống chéo | E4: 0

Sheet Cắt thanh 1D · CatThanh_Thanh
A1: Dài | B1: SL (0=∞) | C1: Vật liệu | D1: Kerf | E1: Xén mép | F1: Giá | G1: Ưu tiên | H1: Tồn tối thiểu | J1: ← Mục lục
A2: 6000 | B2: 0 | C2: HOP50 | D2: 3 | E2: 10 | F2: 148000 | G2: 0 | H2: 1000

Sheet Cắt tấm 2D
A1: Dài | B1: Rộng | C1: SL | D1: Vật liệu | E1: Xoay (1/0) | F1: Nhãn | G1: Ưu tiên | H1: Nẹp (T B L R) | I1: Mài (T B L R) | K1: ← Mục lục
A2: 1200 | B2: 600 | C2: 18 | D2: PLY18 | E2: 1 | F2: Cốp pha cột C1 | G2: 0
A3: 900 | B3: 450 | C3: 24 | D3: PLY18 | E3: 1 | F3: Cốp pha dầm D2 | G3: 0
A4: 2000 | B4: 300 | C4: 10 | D4: PLY18 | E4: 0 | F4: Ván thành | G4: 0

Sheet Cắt tấm 2D · CatTam_Tam
A1: Dài | B1: Rộng | C1: SL (0=∞) | D1: Vật liệu | E1: Kerf | F1: Xén mép | G1: Giá | H1: Ưu tiên | I1: Tồn tối thiểu | J1: Bề dày nẹp | L1: ← Mục lục
A2: 2440 | B2: 1220 | C2: 0 | D2: PLY18 | E2: 4 | F2: 5 | G2: 520000 | H2: 0 | I2: 300

Sheet Mẫu Cắt thép
A1: Ø (mm) | B1: Chiều dài (mm) | C1: Số lượng | D1: Ký hiệu | F1: ◀ DỮ LIỆU VÍ DỤ | H1: ← Mục lục
A2: 25 | B2: 8300 | C2: 256 | D2: 1 | F2: 12 dòng tô màu bên trái là ví dụ — xoá hết rồi nhập số liệu của bạn. Bốn cột này đúng bằng thứ lệnh Thống kê thép → Xuất danh sách cắt ghi ra, nên dán thẳng từ đó sang cũng được.
A3: 25 | B3: 7300 | C3: 256 | D3: 2
A4: 16 | B4: 4620 | C4: 10 | D4: 3
A5: 16 | B5: 3620 | C5: 10 | D5: 4
A6: 16 | B6: 4830 | C6: 1 | D6: 5
A7: 16 | B7: 11700 | C7: 1 | D7: 6
A8: 16 | B8: 9790 | C8: 1 | D8: 7
A9: 16 | B9: 8660 | C9: 1 | D9: 9
A10: 16 | B10: 3700 | C10: 1 | D10: 10
A11: 16 | B11: 6870 | C11: 1 | D11: 11
A12: 10 | B12: 660 | C12: 914 | D12: 1a
A13: 8 | B13: 1380 | C13: 196 | D13: 3a

Sheet Mẫu Cắt thanh
A1: Dài | B1: SL | C1: Vật liệu | D1: Nhãn | E1: Ưu tiên | I1: ← Mục lục
A2: 2100 | B2: 4 | C2: Hộp 50x50 | D2: Cột | E2: 0
A3: 1500 | B3: 6 | C3: Hộp 50x50 | D3: Xà ngang | E3: 0
A4: 1200 | B4: 10 | C4: Hộp 50x50 | D4: Thanh giằng | E4: 0
A5: 800 | B5: 8 | C5: Hộp 50x50 | D5: Đố | E5: 0

Sheet Mẫu Cắt tấm
A1: Dài | B1: Rộng | C1: SL | D1: Vật liệu | E1: Xoay (1/0) | F1: Nhãn | G1: Ưu tiên | H1: Nẹp (T B L R) | I1: Mài (T B L R) | K1: ← Mục lục
A2: 1450 | B2: 900 | C2: 22 | D2: KINH8 | E2: 0 | F2: Vách trục A | G2: 0
A3: 1450 | B3: 600 | C3: 14 | D3: KINH8 | E3: 0 | F3: Vách trục B | G3: 0

Sheet Tạo Nhật ký
A1: DANH MỤC CÔNG TÁC – NHÀ VĂN PHÒNG 9 TẦNG | H1: ← Mục lục
B2: Kỳ nhật ký từ ngày: | C2: 46328 | D2: đến ngày: | E2: 46334
A4: TT | B4: Nội dung công việc | C4: Bắt đầu | D4: Kết thúc | E4: Ngày NT | F4: Ngày nghỉ
A5: 1 | B5: Lắp dựng cốt thép cột tầng 5 | C5: 46328 | D5: 46329 | E5: 46330
A6: 2 | B6: Lắp dựng ván khuôn cột tầng 5 | C6: 46329 | D6: 46330 | E6: 46330
A7: 3 | B7: Đổ bê tông cột tầng 5 | C7: 46331 | D7: 46331 | E7: 46332
A8: 4 | B8: Lắp dựng ván khuôn dầm sàn tầng 6 | C8: 46332 | D8: 46334 | E8: 46335
A9: 5 | B9: Xây tường bao tầng 3 | C9: 46328 | D9: 46334 | E9: 46336 | F9: 04/11/2026+06/11/2026

Sheet Xuất danh mục
A1: THEO DÕI HỒ SƠ NGHIỆM THU – NHÀ VĂN PHÒNG 9 TẦNG | I1: ← Mục lục
A3: STT | B3: Mã CV | C3: Công việc nghiệm thu | D3: Vị trí | E3: Ngày NT | F3: Số BBNT | G3: Ghi chú
A4: A. PHẦN MÓNG
A5: 1 | B5: DD-01 | C5: Đào đất hố móng M1–M6 | D5: Trục 1–3 / A–C | E5: 46304 | F5: NTCV-001
A6: 2 | B6: BTL-01 | C6: Bê tông lót móng M1–M6 | D6: Trục 1–3 / A–C | E6: 46306 | F6: NTCV-002
A7: 3 | B7: CT-01 | C7: Cốt thép móng M1–M6 | D7: Trục 1–3 / A–C | E7: 46310 | F7: NTCV-003
A8: 4 | B8: VK-01 | C8: Ván khuôn móng M1–M6 | D8: Trục 1–3 / A–C | E8: 46311 | F8: NTCV-004
A9: 5 | B9: BT-01 | C9: Bê tông móng M1–M6 (B25) | D9: Trục 1–3 / A–C | E9: 46313 | F9: NTCV-005 | G9: Kèm 3 tổ mẫu

Sheet Chọn ngày nghỉ
A1: DANH MỤC CÔNG TÁC – NHÀ VĂN PHÒNG 9 TẦNG | H1: ← Mục lục
B2: Kỳ nhật ký từ ngày: | C2: 46328 | D2: đến ngày: | E2: 46334
A4: TT | B4: Nội dung công việc | C4: Bắt đầu | D4: Kết thúc | E4: Ngày NT | F4: Ngày nghỉ
A5: 1 | B5: Lắp dựng cốt thép cột tầng 5 | C5: 46328 | D5: 46329 | E5: 46330
A6: 2 | B6: Lắp dựng ván khuôn cột tầng 5 | C6: 46329 | D6: 46330 | E6: 46330
A7: 3 | B7: Đổ bê tông cột tầng 5 | C7: 46331 | D7: 46331 | E7: 46332
A8: 4 | B8: Lắp dựng ván khuôn dầm sàn tầng 6 | C8: 46332 | D8: 46334 | E8: 46335
A9: 5 | B9: Xây tường bao tầng 3 | C9: 46328 | D9: 46334 | E9: 46336

Sheet Mẫu NT công việc
A1: Mucluc | E1: ← Mục lục
B2: THÔNG TIN CHUNG
B3: Dự án | C3: Đầu tư xây dựng Nhà văn phòng 9 tầng
B4: Công trình | C4: Nhà văn phòng 9 tầng
B5: Địa điểm | C5: Phường Dịch Vọng, Quận Cầu Giấy, TP Hà Nội
B6: Tỉnh thành | C6: Hà Nội
B7: Hợp đồng | C7: 15/2026/HĐTC-XL02
B8: Ngày ký hợp đồng | C8: 46188
B9: Phụ lục hợp đồng
B10: Ngày ký PLHĐ
B11: Gói thầu | C11: XL-02: Thi công xây dựng phần thân
B12: Chủ đầu tư | C12: Công ty CP Đầu tư PQR
B13: Tư vấn thiết kế | C13: Công ty CP Tư vấn Thiết kế MNO
B14: Tư vấn giám sát | C14: Công ty Tư vấn ABC
B15: Nhà thầu thi công | C15: Công ty Xây dựng XYZ
B16: Giấy phép xây dựng | C16: 125/GPXD

Sheet Mẫu NT vật liệu
A1: Mucluc | E1: ← Mục lục
B2: THÔNG TIN CHUNG
B3: Dự án | C3: Đầu tư xây dựng Nhà văn phòng 9 tầng
B4: Công trình | C4: Nhà văn phòng 9 tầng
B5: Địa điểm | C5: Phường Dịch Vọng, Quận Cầu Giấy, TP Hà Nội
B6: Tỉnh thành | C6: Hà Nội
B7: Hợp đồng | C7: 15/2026/HĐTC-XL02
B8: Ngày ký hợp đồng | C8: 46188
B9: Phụ lục hợp đồng
B10: Ngày ký PLHĐ
B11: Gói thầu | C11: XL-02: Thi công xây dựng phần thân
B12: Chủ đầu tư | C12: Công ty CP Đầu tư PQR
B13: Tư vấn thiết kế | C13: Công ty CP Tư vấn Thiết kế MNO
B14: Tư vấn giám sát | C14: Công ty Tư vấn ABC
B15: Nhà thầu thi công | C15: Công ty Xây dựng XYZ
B16: Giấy phép xây dựng | C16: 125/GPXD

Sheet Mẫu Nhật ký
B1: NHẬT KÝ CÔNG TRÌNH | K1: ← Mục lục
F2: =DATA!$B$3 -> Tỉnh/TP, ngày 05 tháng 11 năm 2026
B3: I. Điều kiện thời tiết: | D3: Nắng | H3: Nhiệt độ TB: | I3: 28
B4: II. Nhân lực, máy móc thiết bị:
B6: Nhân lực | E6: Số lượng | F6: Máy móc thiết bị | I6: Số lượng
B7: Chỉ huy công trường | E7: 1 | F7: Máy ép cọc
B8: Kỹ sư | E8: 4 | F8: Xe đào | I8: 1
B9: Cán bộ ATLĐ&VSMT | E9: 1 | F9: Xe ủi
B10: Thủ kho | E10: 1 | F10: Xe lu
B11: Bảo vệ | E11: 2 | F11: Máy trộn | I11: 1
B12: Công nhân | E12: 45 | F12: Máy trắc đạc | I12: 1
F13: Máy laser | I13: 1
B15: III. Nội dung công việc thực hiện trong ngày :
B16: 1. Vật tư, vật liệu ra vào công trường:

Sheet DATA
D1: ← Mục lục
A3: Dòng ngày tháng | B3: Tỉnh/TP, ngày 05 tháng 11 năm 2026

Sheet Kế hoạch TN
A1: BẢNG KHỐI LƯỢNG VẬT TƯ PHẦN MÓNG | F1: ← Mục lục
A3: TT | B3: Tên vật tư | C3: ĐVT | D3: Khối lượng
A4: 1 | B4: Bê tông thương phẩm M300 | C4: m³ | D4: 286.5
A5: 2 | B5: Thép CB400-V | C5: tấn | D5: 34.2
A6: 3 | B6: Xi măng PCB40 | C6: tấn | D6: 18
A7: 4 | B7: Cát vàng xây trát | C7: m³ | D7: 42
A8: 5 | B8: Gạch rỗng 2 lỗ tuynel | C8: viên | D8: 12500

Sheet Kế hoạch NT
A1: TIẾN ĐỘ THI CÔNG PHẦN MÓNG – NHÀ VĂN PHÒNG 9 TẦNG | G1: ← Mục lục
A3: Mã CV | B3: Tên công việc | C3: Bắt đầu | D3: Kết thúc | E3: Số ngày
A4: 1.1 | B4: Đào đất hố móng | C4: 46300 | D4: 46304 | E4: 5
A5: 1.2 | B5: Bê tông lót móng M1–M6 | C5: 46305 | D5: 46306 | E5: 2
A6: 1.3 | B6: Lắp dựng cốt thép móng M1–M6 | C6: 46307 | D6: 46310 | E6: 4
A7: 1.4 | B7: Lắp dựng ván khuôn móng M1–M6 | C7: 46309 | D7: 46311 | E7: 3
A8: 1.5 | B8: Đổ bê tông móng M1–M6 | C8: 46312 | D8: 46312 | E8: 1
A9: 1.6 | B9: Lấp đất hố móng | C9: 46315 | D9: 46317 | E9: 3

Sheet Biên bản NT
A1: KẾ HOẠCH NGHIỆM THU CÔNG VIỆC XÂY DỰNG | L1: ← Mục lục
A2: Công trình: Nhà văn phòng 9 tầng – Gói thầu XL-02 Lập ngày: 08/10/2026 Nguồn: tiến độ 'Tiến độ'
A3: STT | B3: Mã CV | C3: Công việc / Hạng mục nghiệm thu | D3: Loại nghiệm thu | E3: Tiêu chuẩn áp dụng | F3: Ngày bắt đầu | G3: Ngày dự kiến NT | H3: Thành phần nghiệm thu | I3: Trạng thái | J3: Ghi chú
A4: 1 | B4: 1.1 | C4: Đào đất hố móng | D4: Công việc xây dựng | E4: TCVN 4447:2012 | F4: 46300 | G4: 46304 | H4: Giám sát của CĐT/TVGS; Cán bộ kỹ thuật Nhà thầu | I4: Chờ nghiệm thu
A5: 2 | B5: 1.2 | C5: Bê tông lót móng M1–M6 | D5: Công việc xây dựng | E5: TCVN 4453:1995 | F5: 46305 | G5: 46306 | H5: Giám sát của CĐT/TVGS; Cán bộ kỹ thuật Nhà thầu | I5: Chờ nghiệm thu
A6: 3 | B6: 1.3 | C6: Lắp dựng cốt thép móng M1–M6 | D6: Công việc xây dựng | E6: TCVN 4453:1995; TCVN 1651-2:2018 | F6: 46307 | G6: 46310 | H6: Giám sát của CĐT/TVGS; Cán bộ kỹ thuật Nhà thầu | I6: Chờ nghiệm thu
A7: 4 | B7: 1.4 | C7: Lắp dựng ván khuôn móng M1–M6 | D7: Công việc xây dựng | E7: TCVN 4453:1995 | F7: 46309 | G7: 46311 | H7: Giám sát của CĐT/TVGS; Cán bộ kỹ thuật Nhà thầu | I7: Chờ nghiệm thu
A8: 5 | B8: 1.5 | C8: Đổ bê tông móng M1–M6 | D8: Công việc xây dựng | E8: TCVN 4453:1995 | F8: 46312 | G8: 46312 | H8: Giám sát của CĐT/TVGS; Cán bộ kỹ thuật Nhà thầu | I8: Chờ nghiệm thu
A9: 6 | B9: 1.6 | C9: Lấp đất hố móng | D9: Công việc xây dựng | E9: TCVN 4447:2012 | F9: 46315 | G9: 46317 | H9: Giám sát của CĐT/TVGS; Cán bộ kỹ thuật Nhà thầu | I9: Chờ nghiệm thu

Sheet AI Báo giá XD
A1: BẢNG KHỐI LƯỢNG PHẦN MÓNG — NHÀ VĂN PHÒNG 9 TẦNG | I1: ← Mục lục
A3: TT | B3: Tên hạng mục | C3: ĐVT | D3: Khối lượng | E3: Đơn giá | F3: Nguồn giá | G3: Ghi chú
A4: 1 | B4: Bê tông lót móng M100 đá 4x6 | C4: m3 | D4: 18.6
A5: 2 | B5: Bê tông móng M250 đá 1x2 | C5: m3 | D5: 142.5
A6: 3 | B6: Ván khuôn móng | C6: m2 | D6: 236
A7: 4 | B7: Cốt thép móng D≤10 | C7: kg | D7: 2850
A8: 5 | B8: Xi măng PCB40 | C8: tấn | D8: 12.5

Sheet Thanh toán theo kỳ
A1: BẢNG KHỐI LƯỢNG HỢP ĐỒNG — NHÀ VĂN PHÒNG 9 TẦNG | J1: ← Mục lục
A3: STT | B3: Hạng mục | C3: Mã hiệu | D3: ĐVT | E3: KL hợp đồng | F3: Đơn giá | G3: Thành tiền | H3: % HT lũy kế
A4: 1 | B4: Đào đất hố móng bằng máy | C4: AB.25113 | D4: m3 | E4: 1250 | F4: 85000 | G4: 106250000 | H4: 1
A5: 2 | B5: Bê tông móng M300 | C5: AF.22230 | D5: m3 | E5: 286.5 | F5: 1850000 | G5: 530025000 | H5: 1
A6: 3 | B6: Cốt thép móng | C6: AF.61130 | D6: tấn | E6: 34.2 | F6: 21500000 | G6: 735300000 | H6: 1
A7: 4 | B7: Bê tông cột tầng 1–3 M300 | C7: AF.22250 | D7: m3 | E7: 96 | F7: 2050000 | G7: 196800000 | H7: 0.4

Sheet So sánh BoQ
A1: BẢNG KHỐI LƯỢNG PHẦN MÓNG — NGHIỆM THU | H1: ← Mục lục
A3: STT | B3: Mã hiệu | C3: Diễn giải | D3: ĐVT | E3: Khối lượng | F3: Đơn giá
A4: 1 | B4: AB.25113 | C4: Đào móng bằng máy, đất cấp III | D4: m3 | E4: 1312.5 | F4: 85000
A5: 2 | B5: AF.11213 | C5: Bê tông lót móng M100 | D5: m3 | E5: 18.6 | F5: 1320000
A6: 3 | B6: AF.22230 | C6: Bê tông móng M300 | D6: m3 | E6: 279.8 | F6: 1850000
A7: 4 | B7: AF.61130 | C7: Cốt thép móng ĐK ≤18 mm | D7: tấn | E7: 36.05 | F7: 21500000
A8: 5 | B8: AK.95121 | C8: Quét chống thấm hố pít | D8: m2 | E8: 48 | F8: 125000

Sheet Bù giá
A1: BẢNG VẬT LIỆU ĐƯỢC BÙ GIÁ — QUÝ 3/2026 | H1: ← Mục lục
A3: STT | B3: Vật liệu | C3: ĐVT | D3: Khối lượng | E3: Đơn giá gốc (HĐ) | F3: Đơn giá mới (thời điểm ĐC)
A4: 1 | B4: Thép CB300-V D10 | C4: kg | D4: 18500 | E4: 15200 | F4: 16850
A5: 2 | B5: Thép CB400-V D16–D25 | C5: kg | D5: 26400 | E5: 15050 | F5: 16400
A6: 3 | B6: Xi măng PCB40 | C6: tấn | D6: 145 | E6: 1550000 | F6: 1680000
A7: 4 | B7: Cát vàng bê tông | C7: m3 | D7: 210 | E7: 380000 | F7: 420000

Sheet Cầu nối dự toán
A1: BẢNG DỰ TOÁN CHI TIẾT | K1: ← Mục lục
A2: Công trình: Nhà văn phòng 9 tầng
A3: Hạng mục: Phần móng
A5: STT | B5: Mã hiệu | C5: Nội dung công việc | D5: Đơn vị | E5: Khối lượng | F5: Đơn giá vật liệu | G5: Đơn giá nhân công | H5: Đơn giá máy | I5: Thành tiền
A6: A | C6: PHẦN MÓNG
A7: 1 | B7: AB.25113 | C7: Đào móng bằng máy đào ≤1,25 m3, đất cấp III | D7: m3 | E7: 1250 | F7: 0 | G7: 9850 | H7: 22400 | I7: 40312500
A8: 2 | B8: AF.11213 | C8: Bê tông lót móng đá 4x6 M100 | D8: m3 | E8: 18.6 | F8: 985000 | G8: 245000 | H8: 32000 | I8: 23473200
A9: 3 | B9: AF.22230 | C9: Bê tông móng đá 1x2 M300 | D9: m3 | E9: 286.5 | F9: 1320000 | G9: 285000 | H9: 48000 | I9: 473584500
A10: 4 | B10: AF.61130 | C10: Cốt thép móng ĐK ≤18 mm | D10: tấn | E10: 34.2 | F10: 16250000 | G10: 2950000 | H10: 410000 | I10: 670662000
C11: Cộng phần móng | I11: 1208032200

Sheet Truy vấn dữ liệu
A1: TỔNG HỢP KHỐI LƯỢNG CHÍNH — NHÀ VĂN PHÒNG 9 TẦNG | F1: ← Mục lục
A3: Hạng mục | B3: ĐVT | C3: Khối lượng
A4: Đào đất hố móng | B4: m3 | C4: 1250
A5: Bê tông móng (các loại) | B5: m3
A6: Cốt thép móng | B6: tấn

Sheet Sổ phát sinh
A1: ĐO BÓC KHỐI LƯỢNG PHÁT SINH — SÂN VƯỜN, SÂN TRƯỚC | H1: ← Mục lục
A3: STT | B3: Nội dung phát sinh | C3: Căn cứ | D3: ĐVT | E3: KL | F3: Đơn giá
A4: 1 | B4: Bê tông móng trụ đèn sân vườn M250 | D4: m3 | E4: 8.5 | F4: 1900000
A5: 2 | B5: Cốt thép móng trụ đèn | D5: kg | E5: 420 | F5: 21500
A6: 3 | B6: Sân bê tông cắt bỏ | C6: Thay đổi thiết kế BV KT-12 Rev02 | D6: m2 | E6: -65 | F6: 320000
A7: 4 | B7: Lát đá granite sân trước | C7: Thay đổi thiết kế BV KT-12 Rev02 | D7: m2 | E7: 65 | F7: 680000

Sheet Gửi Định dạng
A1: BẢNG TỔNG HỢP KHỐI LƯỢNG | I1: ← Mục lục
A2: Công trình: Nhà văn phòng 9 tầng
A3: Hạng mục: Phần thân — cột tầng 1–3
A5: STT | B5: Nội dung công việc | C5: ĐVT | D5: Khối lượng | E5: Đơn giá | F5: Thành tiền | G5: Ghi chú
A6: 1 | B6: Bê tông cột M300, đá 1x2 | C6: m³ | D6: 86.4 | E6: 1850000 | F6: 159840000
A7: 2 | B7: Cốt thép cột Ø≤18 | C7: tấn | D7: 12.85 | E7: 21500000 | F7: 276275000
A8: 3 | B8: Ván khuôn cột | C8: 100m² | D8: 7.2 | E8: 9800000 | F8: 70560000

Sheet Đánh số
A1: BẢNG KHỐI LƯỢNG PHẦN MÓNG | F1: ← Mục lục
A3: STT | B3: Nội dung công việc | C3: ĐVT | D3: Khối lượng
B4: Đào đất hố móng bằng máy | C4: m³ | D4: 412.6
B5: Bê tông móng B22,5 (M300), gồm: | C5: m³ | D5: 186.2
B6: - Móng M1 (12 cái) | C6: m³ | D6: 112.8
B7: - Móng M2 (8 cái) | C7: m³ | D7: 73.4
B8: Cốt thép móng D≤18 | C8: tấn | D8: 12.4
B10: Ván khuôn móng | C10: m² | D10: 284
B11: Lấp đất hố móng | C11: m³ | D11: 236.5

Sheet Số La Mã
A1: BẢNG TỔNG HỢP KINH PHÍ XÂY DỰNG | E1: ← Mục lục
A3: STT | B3: Hạng mục | C3: Giá trị (đồng)
B4: Phần móng | C4: 4286500000
B5: Phần thân | C5: 12940000000
B6: Phần hoàn thiện | C6: 7318200000
B7: Phần điện nước | C7: 3125600000

Sheet Chữ HOA
A1: DANH MỤC PHỤ LỤC KÈM BIÊN BẢN NGHIỆM THU | E1: ← Mục lục
A3: Phụ lục | B3: Nội dung | C3: Số trang
B4: Bản vẽ hoàn công phần móng | C4: 12
B5: Nhật ký thi công phần móng | C5: 26
B6: Kết quả thí nghiệm nén mẫu bê tông | C6: 8
B7: Kết quả thí nghiệm kéo, uốn thép | C7: 6
B8: Chứng chỉ chất lượng vật liệu (CO/CQ) | C8: 34

Sheet Chữ thường
A1: MỤC 2 — KẾT CẤU MẶT ĐƯỜNG NỘI BỘ | F1: ← Mục lục
A3: TT | B3: Lớp kết cấu | C3: ĐVT | D3: Khối lượng
B4: Bê tông nhựa hạt mịn dày 5 cm | C4: m² | D4: 1850
B5: Bê tông nhựa hạt thô dày 7 cm | C5: m² | D5: 1850
B6: Cấp phối đá dăm loại I dày 15 cm | C6: m² | D6: 1920
B7: Cấp phối đá dăm loại II dày 30 cm | C7: m² | D7: 1980

Sheet Đánh Level
A1: DỰ TOÁN CHI TIẾT — NHÀ VĂN PHÒNG 9 TẦNG | G1: ← Mục lục
A3: Nội dung công việc | B3: KL (m³) | C3: Level | E3: Chú giải màu
A4: Phần ngầm | E4: Cấp 1
A5: Công tác đất | E5: Cấp 2
A6: Đào móng bằng máy | B6: 412.6 | E6: Cấp 3
A7: Đào móng thủ công | B7: 45.8
A8: Công tác bê tông móng
A9: Bê tông lót móng B7,5 (M100) | B9: 18.4
A10: Bê tông móng B22,5 (M300) | B10: 186.2
A11: Phần thân

Sheet Chấm tròn đặc
A1: BIÊN BẢN NGHIỆM THU CÔNG VIỆC XÂY DỰNG | E1: ← Mục lục
A3: TT | B3: Nội dung công việc | C3: Kết quả
A4: 1 | B4: Lắp dựng ván khuôn cột trục A-3 Nghiệm thu cốt thép trước khi đổ Đổ bê tông cột B22,5 (M300) | C4: Đạt
A5: 2 | B5: Tháo dỡ ván khuôn sau 2 ngày Bảo dưỡng ẩm bê tông 7 ngày | C5: Đạt
A6: 3 | B6: Lấy mẫu thí nghiệm nén 28 ngày | C6: Đạt

Sheet Sao đặc
A1: KẾ HOẠCH KIỂM TRA VÀ NGHIỆM THU (ITP) — PHẦN MÓNG | E1: ← Mục lục
A3: TT | B3: Điểm kiểm tra | C3: Loại
A4: 1 | B4: Kiểm tra định vị tim cọc | C4: W
A5: 2 | B5: Kiểm tra cao độ đỉnh cọc | C5: H
A6: 3 | B6: Nghiệm thu cốt thép trước khi đổ bê tông | C6: H
A7: 4 | B7: Thí nghiệm nén mẫu 28 ngày | C7: H
A8: 5 | B8: Bảo dưỡng bê tông đài móng | C8: W
A10: H = điểm dừng bắt buộc có mặt tư vấn giám sát; W = điểm chứng kiến

Sheet Gạch ngang
A1: PHÂN TÍCH VẬT LIỆU ĐƠN GIÁ CHI TIẾT | E1: ← Mục lục
A3: TT | B3: Công tác | C3: Vật liệu
A4: 1 | B4: Bê tông cột B22,5 (M300), đá 1×2 | C4: Xi măng PCB40 Cát vàng Đá 1×2 Phụ gia hoá dẻo
A5: 2 | B5: Xây tường gạch rỗng 2 lỗ, vữa XM M75 | C5: Gạch rỗng 2 lỗ tuynel Xi măng PCB40 Cát vàng xây trát

Sheet Kim cương đặc
A1: CÁC MỐC TIẾN ĐỘ CHÍNH — NHÀ VĂN PHÒNG 9 TẦNG | E1: ← Mục lục
A3: TT | B3: Mốc hoàn thành | C3: Ngày
A4: 1 | B4: Hoàn thành cọc khoan nhồi | C4: 46096
A5: 2 | B5: Hoàn thành đài móng và giằng | C5: 46142
A6: 3 | B6: Hoàn thành kết cấu thân | C6: 46265
A7: 4 | B7: Bàn giao đưa vào sử dụng | C7: 46371

Sheet Dấu cộng
A1: PHỤ LỤC KHỐI LƯỢNG PHÁT SINH | F1: ← Mục lục
A3: TT | B3: Nội dung | C3: ĐVT | D3: Khối lượng
A4: 1 | B4: Bổ sung bê tông lót móng B7,5 (M100) | C4: m³ | D4: 12
A5: 2 | B5: Bổ sung cốt thép D16 giằng móng | C5: kg | D5: 850
A6: 3 | B6: Bổ sung ván khuôn thành đài móng | C6: m² | D6: 45

Sheet Hoa thị
A1: BẢNG TỔNG HỢP GIÁ DỰ THẦU | E1: ← Mục lục
A3: TT | B3: Hạng mục | C3: Thành tiền (đồng)
A4: 1 | B4: Phần móng | C4: 4286500000
A5: 2 | B5: Phần thân | C5: 12940000000
A6: 3 | B6: Phần hoàn thiện | C6: 7318200000
A7: Cộng | C7: 24544700000
A9: Ghi chú: | B9: Đơn giá chưa bao gồm thuế GTGT Giá trị tạm tính, quyết toán theo khối lượng thực tế Áp dụng cho khối lượng nghiệm thu trước 31/12/2026

Sheet Checkbox
A1: DANH MỤC KIỂM TRA TRƯỚC KHI ĐỔ BÊ TÔNG SÀN TẦNG 3 | E1: ← Mục lục
A3: TT | B3: Nội dung kiểm tra | C3: Ghi chú
A4: 1 | B4: Cốt thép đúng đường kính, khoảng cách theo bản vẽ
A5: 2 | B5: Con kê đủ, đúng chiều dày lớp bê tông bảo vệ
A6: 3 | B6: Ván khuôn kín khít, chống đỡ chắc chắn
A7: 4 | B7: Đã vệ sinh, tưới ẩm mặt ván khuôn

Sheet Đã tích
A1: DANH MỤC HỒ SƠ NGHIỆM THU HOÀN THÀNH PHẦN MÓNG | E1: ← Mục lục
A3: TT | B3: Hồ sơ | C3: Ngày nộp
A4: 1 | B4: ☐ Biên bản nghiệm thu cốt thép móng | C4: 46300
A5: 2 | B5: ☐ Kết quả thí nghiệm nén mẫu 28 ngày | C5: 46300
A6: 3 | B6: ☐ Nhật ký thi công phần móng | C6: 46301
A7: 4 | B7: ☐ Bản vẽ hoàn công phần móng

Sheet Loại
A1: KIỂM TRA VẬT TƯ ĐẦU VÀO — LÔ THÉP NHẬP NGÀY 12/08/2026 | E1: ← Mục lục
A3: TT | B3: Nội dung kiểm tra | C3: Ghi chú
A4: 1 | B4: ☑ Chứng chỉ chất lượng CO/CQ đầy đủ
A5: 2 | B5: ☑ Nhãn mác, đường kính đúng chủng loại đặt hàng
A6: 3 | B6: ☐ Bề mặt không han gỉ, không cong vênh | C6: Gỉ bề mặt bó số 3
A7: 4 | B7: ☐ Kết quả thí nghiệm kéo đạt yêu cầu | C7: Mẫu D16 không đạt

Sheet Bỏ ký hiệu đầu dòng
A1: THUYẾT MINH BIỆN PHÁP THI CÔNG CỌC KHOAN NHỒI | D1: ← Mục lục
A3: TT | B3: Trình tự thi công
A4: 1 | B4: ● Vệ sinh mặt bằng, định vị tim cọc ● Khoan tạo lỗ đến cao độ thiết kế ● Hạ lồng thép, đổ bê tông
A5: 2 | B5: − Kiểm tra độ sâu hố khoan − Đo chiều dày lớp lắng đáy hố
A6: 3 | B6: ★ Bê tông cọc B30 (M400)

Sheet Danh sách số
A1: DANH MỤC CÔNG VIỆC PHẦN MÓNG | E1: ← Mục lục
A3: Công việc | B3: Bắt đầu | C3: Số ngày
A4: Đào móng trục A-D | B4: 46083 | C4: 6
A5: Đổ bê tông lót | B5: 46090 | C5: 2
A6: Gia công cốt thép đài móng Lắp dựng cốt thép đài móng | B6: 46092 | C6: 5
A7: Đổ bê tông đài móng | B7: 46098 | C7: 2

Sheet Danh sách La Mã
A1: BẢNG TỔNG HỢP KHỐI LƯỢNG | D1: ← Mục lục
A3: Hạng mục | B3: Giá trị (đồng)
A4: Công tác đất | B4: 386400000
A5: Công tác bê tông | B5: 2915700000
A6: Công tác cốt thép | B6: 1842300000
A7: Công tác ván khuôn | B7: 624900000

Sheet Danh sách HOA
A1: THUYẾT MINH BIỆN PHÁP THI CÔNG PHẦN THÂN | D1: ← Mục lục
A3: Mục | B3: Trang
A4: Công tác chuẩn bị mặt bằng | B4: 3
A5: Biện pháp cốp pha, giàn giáo | B5: 7
A6: Biện pháp cốt thép | B6: 15
A7: An toàn lao động và vệ sinh môi trường | B7: 22

Sheet Danh sách thường
A1: CÔNG TÁC CỐT THÉP ĐÀI MÓNG | E1: ← Mục lục
A3: Công việc | B3: ĐVT | C3: Khối lượng
A4: Gia công cốt thép đài móng | B4: tấn | C4: 18.6
A5: Lắp dựng cốt thép đài móng | B5: tấn | C5: 18.6
A6: Buộc con kê bảo vệ | B6: cái | C6: 1240
A7: Hàn nối cốt thép D25 | B7: mối | C7: 96

Sheet Bỏ đánh số danh sách
A1: BẢNG KHỐI LƯỢNG PHẦN MÓNG | E1: ← Mục lục
A3: Nội dung công việc | B3: ĐVT | C3: Khối lượng
A4: 1. Đào đất hố móng bằng máy | B4: m³ | C4: 412.6
A5: 2. Đổ bê tông lót móng B7,5 (M100) | B5: m³ | C5: 18.4
A6: 3. Gia công lắp dựng cốt thép móng | B6: tấn | C6: 18.6
A7: 3. Lắp dựng ván khuôn đài móng | B7: m² | C7: 96.5

Sheet Đa cấp 1.1.1
A1: DỰ TOÁN CHI TIẾT — NHÀ VĂN PHÒNG 9 TẦNG | E1: ← Mục lục
A3: Hạng mục | B3: ĐVT | C3: Khối lượng
A4: Phần ngầm
A5: Công tác đất
A6: Đào móng bằng máy | B6: m³ | C6: 412.6
A7: Đào móng thủ công | B7: m³ | C7: 45.8
A8: Công tác bê tông móng
A9: Bê tông lót móng B7,5 (M100) | B9: m³ | C9: 18.4
A10: Bê tông móng B22,5 (M300) | B10: m³ | C10: 186.2
A11: Phần thân

Sheet Bỏ đánh số đa cấp
A1: DỰ TOÁN CHI TIẾT — NHÀ VĂN PHÒNG 9 TẦNG | E1: ← Mục lục
A3: Hạng mục | B3: ĐVT | C3: Khối lượng
A4: 1. Phần ngầm
A5: 1.1. Công tác đất
A6: 1.1.1. Đào móng bằng máy | B6: m³ | C6: 412.6
A7: 1.1.2. Đào móng thủ công | B7: m³ | C7: 45.8
A8: 2. Phần thân

Sheet Hoa đầu câu
A1: TT | B1: Diễn giải công việc | D1: ← Mục lục
A2: 1 | B2: đổ bê tông cột tầng 3. nghiệm thu trước khi đổ
A3: 2 | B3: LẮP DỰNG VÁN KHUÔN DẦM SÀN THEO TCVN 4453
A4: 3 | B4: ghi chú: kiểm tra cao độ cột C1
A5: 4 | B5: cường độ bê tông đạt 30 MPa. lấy mẫu theo TCVN 3105

Sheet HOA TOÀN BỘ
A1: Biên bản nghiệm thu công việc xây dựng | D1: ← Mục lục
A2: Công tác bê tông cột tầng 3
A3: Chủ đầu tư: Ban QLDA số 2
A4: Bê tông B25, cường độ 30 MPa

Sheet thường toàn bộ
A1: TT | B1: Tên công tác | D1: ← Mục lục
A2: 1 | B2: CÔNG TÁC BÊ TÔNG BTCT MÓNG M1
A3: 2 | B3: ỐNG HDPE D110 THEO TCVN 7305
A4: 3 | B4: Bê Tông Lót Móng Đá 4x6
A5: 4 | B5: Cường Độ Bê Tông Đạt 30 MPa

Sheet Hoa Đầu Mỗi Từ
A1: TT | B1: Họ tên / Đơn vị | C1: Vai trò | E1: ← Mục lục
A2: 1 | B2: nguyễn văn an | C2: Chỉ huy trưởng
A3: 2 | B3: TRẦN THỊ BÌNH | C3: Kỹ sư QA/QC
A4: 3 | B4: lê Hoàng nam | C4: Tổ trưởng
A5: 4 | B5: CÔNG TY TNHH XÂY DỰNG HOÀNG LONG | C5: Thầu phụ
A6: 5 | B6: tổ đội BTCT khu C1 | C6: Tổ đội

Sheet Hoa theo ngữ cảnh (AI)
A1: TT | B1: Diễn giải | D1: ← Mục lục
A2: 1 | B2: nghiệm thu cốt thép dầm sàn theo tcvn 5574:2018
A3: 2 | B3: nhà thầu: cty tnhh xây dựng hoàng long
A4: 3 | B4: giám sát: kỹ sư nguyễn văn an

Sheet In nghiêng
A1: TT | B1: Tên công tác | C1: ĐVT | D1: Khối lượng | F1: ← Mục lục
A2: 1 | B2: Bê tông lót móng M150 Lean concrete M150 | C2: m3 | D2: 12.5
A3: 2 | B3: Bê tông móng M300 Footing concrete M300 | C3: m3 | D3: 86.4
A4: 3 | B4: Bê tông cột M300 Column concrete M300 | C4: m3 | D4: 24.6
A5: 4 | B5: Ván khuôn cột Column formwork | C5: m2 | D5: 182

Sheet Đảo ngược
A1: TT | B1: Danh mục công tác | C1: ĐVT | E1: ← Mục lục
A2: 1 | B2: Bê tông lót móng - AF.11110 | C2: m3
A3: 2 | B3: Cốt thép móng D≤10 - AF.61110 | C3: tấn
A4: 3 | B4: Ván khuôn móng - AF.81110 | C4: m2

Sheet Đổi Font
A1: TT / No. | B1: Công việc nghiệm thu / Inspected work | C1: Tiêu chuẩn / Standard | D1: Kết quả / Result | F1: ← Mục lục
A2: 1 | B2: Cốt thép dầm sàn tầng 3 | C2: TCVN 4453:1995 | D2: Đạt
A3: 2 | B3: Ván khuôn dầm sàn tầng 3 | C3: TCVN 4453:1995 | D3: Đạt
A4: 3 | B4: Bê tông cột tầng 3 | C4: TCVN 4453:1995 | D4: Đạt

Sheet Xoá space thừa
A1: TT | B1: Tên công tác | C1: Số ký tự | E1: ← Mục lục
A2: 1 | B2: Bê tông móng M250 | C2: 22
A3: 2 | B3: Cốt thép D≤10 | C3: 16
A4: 3 | B4: Ván khuôn cột | C4: 17

Sheet Chèn text
A1: TT | B1: Tên công tác | C1: ĐVT | D1: Khối lượng | F1: ← Mục lục
A2: 1 | B2: Bê tông lót đá 4x6 | C2: m3 | D2: 3.2
A3: 2 | B3: Cốt thép móng D≤10 | C3: tấn | D3: 0.85
A4: 3 | B4: Ván khuôn móng | C4: m2 | D4: 14.4

Sheet Xoá dấu
A1: TT | B1: Hạng mục | C1: Ngày NT | E1: ← Mục lục
A2: 1 | B2: Móng đơn trục A-1 | C2: 46093
A3: 2 | B3: Bê tông cốt thép dầm sàn tầng 2 | C3: 46107
A4: 3 | B4: Đường ống cấp nước D110 | C4: 46121

Sheet Thêm dấu (AI)
A1: Ngày | B1: Nội dung công việc | D1: ← Mục lục
A2: 46301 | B2: tap ket vat tu gach xay tuong
A3: 46301 | B3: Vệ sinh mặt bằng cuối ngày
A4: 46302 | B4: nghiem thu cot thep dam san tang 3
A5: 46303 | B5: do be tong dam san tang 3

Sheet Auto format số-ngày
A1: TT | B1: Tên công tác | C1: ĐVT | D1: Khối lượng | E1: Ngày NT | G1: ← Mục lục
A2: 1 | B2: Bê tông móng M250 | C2: m3 | D2: 125,5 | E2: 15/03/2026
A3: 2 | B3: Cốt thép móng | C3: kg | D3: 1.200 | E3: 18/03/2026
A4: 3 | B4: Ván khuôn móng | C4: m2 | D4: 86,25 | E4: 2026-03-20
A5: 4 | B5: Đào đất hố móng | C5: m3 | D5: 42 | E5: 22/03/2026
B6: Cộng | D6: =SUM(D2:D5) -> 0

Sheet Superscript m²
A1: TT | B1: Tên công tác | C1: ĐVT | D1: Khối lượng | F1: ← Mục lục
A2: 1 | B2: Bê tông móng M250 | C2: m3 | D2: 42.5
A3: 2 | B3: Ván khuôn móng | C3: m2 | D3: 86.4
A4: 3 | B4: Cốt thép móng D≤10 | C4: tấn | D4: 1.25
A5: 4 | B5: Trát tường dày 15 mm | C5: m2 | D5: 320
A6: 5 | B6: Đào đất hố móng | C6: m3 | D6: 156

Sheet Subscript H₂O
A1: TT | B1: Thành phần / chỉ tiêu | D1: ← Mục lục
A2: 1 | B2: Nước H2O
A3: 2 | B3: Vôi tôi Ca(OH)2
A4: 3 | B4: Khí CO2 (cacbonat hoá)
A5: 4 | B5: Ion Fe3+ trong nước trộn
A6: 5 | B6: Bê tông B25, vữa M300

Sheet Tìm - Thay hàng loạt…
A1: BẢNG DỰ TOÁN CHI TIẾT — PHẦN THÂN | F1: ← Mục lục
A3: TT | B3: Nội dung công việc | C3: ĐVT | D3: Khối lượng
A4: 1 | B4: Bê tông lót móng đá 4x6 M100 | C4: m³ | D4: 12.6
A5: 2 | B5: BTCT móng đá 1x2 M250 | C5: m³ | D5: 48.3
A6: 3 | B6: BTCT cột tầng 1 đá 1x2 M300 | C6: m³ | D6: 18.7
A7: 4 | B7: BTCT dầm sàn tầng 2 đá 1x2 M300 | C7: m³ | D7: 96.4
A8: 5 | B8: Ván khuôn cột tầng 1 | C8: m² | D8: 210.5
A9: 6 | B9: Cốt thép cột tầng 1, D≤18 | C9: tấn | D9: 3.85

Sheet Dọn dữ liệu thông minh…
A1: Mã VT | B1: Tên vật tư | C1: ĐVT | D1: Số lượng | F1: ← Mục lục
A2: VT01 | B2: xi măng PCB40 | C2: kg | D2: 18000
A3: VT02 | B3: THÉP CB400-V D16 | C3: kg | D3: 4520
A4: VT03 | B4: cát vàng xây trát | C4: m3 | D4: 42
A5: VT01 | B5: Xi măng PCB40 | C5: kg | D5: 18000
A6: VT04 | B6: gạch ốp lát 600x600 | C6: m2 | D6: 350
A7: VT03 | B7: Cát vàng xây trát | C7: m3 | D7: 42
A8: VT05 | B8: Đá dăm 1x2 | C8: m3 | D8: 65

Sheet Chuyển mã
A1: BAÛNG KHOÁI LÖÔÏNG PHAÀN MOÙNG | F1: ← Mục lục
A3: TT | B3: Noäi dung coâng vieäc | C3: ÑVT | D3: Khoái löôïng
A4: 1 | B4: Coâng taùc beâ toâng loùt M100 | C4: m3 | D4: 12.6
A5: 2 | B5: Coát theùp moùng D<=18 | C5: taán | D5: 4.85
A6: 3 | B6: Vaùn khuoân moùng | C6: m2 | D6: 86.4
A7: 4 | B7: Beâ toâng moùng M250 | C7: m3 | D7: 48.3

Sheet Sang Unicode
A1: TT | B1: Néi dung c«ng viÖc | C1: §VT | D1: KL | F1: ← Mục lục
A2: 1 | B2: C«ng t¸c bª t«ng lãt M100 | C2: m3 | D2: 12.6
A3: 2 | B3: Cèt thÐp dÇm sµn D<=10 | C3: kg | D3: 1250
A4: 3 | B4: V¸n khu«n cét vu«ng | C4: m2 | D4: 86.4
A5: 4 | B5: Bª t«ng cét M300 | C5: m3 | D5: 18.7

Sheet Sang VNI
A1: TT | B1: Nội dung công việc | C1: ĐVT | D1: Khối lượng | F1: ← Mục lục
A2: 1 | B2: Bê tông móng đá 1x2 M250 | C2: m3 | D2: 48.3
A3: 2 | B3: Ván khuôn cột, vách | C3: m2 | D3: 210.5
A4: 3 | B4: Thép tròn D18 trở lên | C4: tấn | D4: 3.85
A5: 4 | B5: Xây tường gạch ống dày 200 | C5: m3 | D5: 26.4

Sheet Sang TCVN3
A1: TT | B1: Nội dung công việc | C1: ĐVT | D1: Khối lượng | F1: ← Mục lục
A2: 1 | B2: Đào móng bằng thủ công | C2: m3 | D2: 35.2
A3: 2 | B3: Lắp dựng cốt thép cột | C3: tấn | D3: 2.15
A4: 3 | B4: Ván khuôn dầm, sàn | C4: m2 | D4: 320
A5: 4 | B5: Đổ bê tông sàn M250 | C5: m3 | D5: 64.8

Sheet Dịch ngôn ngữ
A1: BILL OF QUANTITIES — FOUNDATIONS | F1: ← Mục lục
A3: Item | B3: Description | C3: Unit | D3: Qty
A4: 1 | B4: Lean concrete grade C10, 100 mm thick | C4: m³ | D4: 12.6
A5: 2 | B5: Reinforced concrete pile caps, C30 | C5: m³ | D5: 48.3
A6: 3 | B6: Formwork to ground beams | C6: m² | D6: 210.5
A7: 4 | B7: Deformed bars CB400-V, D16–D25 | C7: t | D7: 3.85

Sheet Nhập nhanh
A1: NHẬT KÝ THI CÔNG — NHÀ VĂN PHÒNG 9 TẦNG | E1: ← Mục lục
A3: Ngày | B3: Tổ đội | C3: Hạng mục
A4: 46300 | B4: Tổ bê tông 1 | C4: Bê tông sàn tầng 3
A5: 46300 | B5: Tổ cốt thép | C5: Lắp dựng cốt thép cột
A6: 46301 | B6: Tổ nề 2 | C6: Xây tường trục A
A7: 46301 | B7: Tổ cốp pha | C7: Ván khuôn dầm sàn tầng 4
A8: 46302 | B8: Tổ cốt thép | C8: Lắp dựng cốt thép cột
A9: 46302 | B9: Tổ bê tông 1 | C9: Đổ bê tông cột tầng 4
A10: 46303

Sheet Tự động hiện gợi ý
H1: ← Mục lục
A2: BẢNG KHỐI LƯỢNG VẬT TƯ — NHÀ VĂN PHÒNG 9 TẦNG
A4: TT | B4: Mã VT | C4: Tên vật tư | D4: ĐVT | E4: Đơn giá | F4: Khối lượng
A5: 1 | B5: XM01 | C5: Xi măng PCB40 | D5: kg | E5: 1650 | F5: 18000
A6: 2 | B6: TH16 | C6: Thép CB400-V D16 | D6: kg | E6: 15200 | F6: 4520
A7: 3
A8: 4

Sheet Cài đặt nguồn dữ liệu…
A1: Mã VT | B1: Tên vật tư | C1: ĐVT | D1: Đơn giá | F1: ← Mục lục
A2: XM01 | B2: Xi măng PCB40 | C2: kg | D2: 1650
A3: XM02 | B3: Xi măng PCB30 | C3: kg | D3: 1450
A4: TH16 | B4: Thép CB400-V D16 | C4: kg | D4: 15200
A5: CV01 | B5: Cát vàng xây trát | C5: m3 | D5: 320000
A6: DA12 | B6: Đá dăm 1x2 | C6: m3 | D6: 410000
A7: GO60 | B7: Gạch ốp lát 600x600 | C7: m2 | D7: 185000
A8: GR02 | B8: Gạch rỗng 2 lỗ tuynel | C8: viên | D8: 1250

Sheet Chèn dòng
A1: BẢNG KHỐI LƯỢNG PHẦN THÂN — NHÀ VĂN PHÒNG 9 TẦNG | F1: ← Mục lục
A3: TT | B3: Nội dung công việc | C3: ĐVT | D3: Khối lượng
A4: 1 | B4: Bê tông cột tầng 3, M300 | C4: m³ | D4: 18.2
A5: 2 | B5: Bê tông dầm sàn tầng 3, M300 | C5: m³ | D5: 64.5
A6: 3 | B6: Cốt thép cột tầng 3, CB400-V | C6: tấn | D6: 3.85
A7: 4 | B7: Cốt thép dầm sàn tầng 3, CB400-V | C7: tấn | D7: 9.12
A8: 5 | B8: Ván khuôn cột tầng 3 | C8: m² | D8: 142
A9: 6 | B9: Ván khuôn dầm sàn tầng 3 | C9: m² | D9: 516

Sheet Chèn cột
A1: THEO DÕI KHỐI LƯỢNG NGHIỆM THU — NHÀ VĂN PHÒNG 9 TẦNG | F1: ← Mục lục
A3: STT | B3: Nội dung công việc | C3: ĐVT | D3: KL hợp đồng
A4: 1 | B4: Đào đất hố móng bằng máy | C4: m³ | D4: 1250
A5: 2 | B5: Bê tông lót móng M100 | C5: m³ | D5: 38.5
A6: 3 | B6: Bê tông móng M300 | C6: m³ | D6: 412.6
A7: 4 | B7: Cốt thép móng CB400-V | C7: tấn | D7: 36.8
A8: 5 | B8: Ván khuôn móng | C8: m² | D8: 864

Sheet Chèn và Sao chép
A1: DỰ TOÁN CHI TIẾT — PHẦN MÓNG | F1: ← Mục lục
A3: STT | B3: Nội dung công việc | C3: ĐVT | D3: Khối lượng
A4: 1 | B4: Bê tông móng M300 | C4: m³ | D4: 412.6
A5: 2 | B5: Bê tông giằng móng M300 | C5: m³ | D5: 58.4
B8: - Vật liệu
B9: - Nhân công
B10: - Máy thi công

Sheet Xoá dòng trống
A1: KHỐI LƯỢNG PHẦN MÓNG (xuất từ phần mềm dự toán) | F1: ← Mục lục
A3: STT | B3: Nội dung công việc | C3: ĐVT | D3: Khối lượng
A4: 1 | B4: Bê tông lót móng M100 | C4: m³ | D4: 38.5
A7: 2 | B7: Bê tông móng M300 | C7: m³ | D7: 412.6
A9: 3 | B9: Cốt thép móng CB400-V | C9: tấn | D9: 36.8
A12: 4 | B12: Ván khuôn móng | C12: m² | D12: 864

Sheet Xoá dòng ẩn
A1: TỔNG HỢP KHỐI LƯỢNG — NHÀ VĂN PHÒNG 9 TẦNG | G1: ← Mục lục
A3: STT | B3: Hạng mục | C3: Nội dung công việc | D3: ĐVT | E3: Khối lượng
A4: 1 | B4: Kết cấu thép | C4: Cột thép I300 | D4: tấn | E4: 12.4
A5: 2 | B5: Bê tông | C5: Bê tông sàn tầng 2, M300 | D5: m³ | E5: 96.5
A6: 3 | B6: Kết cấu thép | C6: Dầm thép I400 | D6: tấn | E6: 18.75
A7: 4 | B7: Kết cấu thép | C7: Bu lông neo M24 | D7: bộ | E7: 64
A8: 5 | B8: Hoàn thiện | C8: Trát tường trong | D8: m² | E8: 1240
A9: 6 | B9: Bê tông | C9: Bê tông cột tầng 2, M300 | D9: m³ | E9: 22.8
A10: 7 | B10: Kết cấu thép | C10: Sơn chống gỉ kết cấu thép | D10: m² | E10: 486
A11: 8 | B11: Hoàn thiện | C11: Lát nền gạch 600x600 | D11: m² | E11: 815

Sheet Xoá format không dùng
A1: KHỐI LƯỢNG PHẦN THÔ — NHÀ VĂN PHÒNG 9 TẦNG | I1: ← Mục lục
A3: STT | B3: Nội dung công việc | C3: ĐVT | D3: Khối lượng | E3: Thành tiền (đ)
A4: 1 | B4: Bê tông cột tầng 1–3, M300 | C4: m³ | D4: 54.6 | E4: 68250000
A5: 2 | B5: Bê tông dầm sàn tầng 1–3, M300 | C5: m³ | D5: 193.5 | E5: 241875000
A6: 3 | B6: Cốt thép CB400-V | C6: tấn | D6: 38.9 | E6: 700200000
A7: 4 | B7: Ván khuôn cột, dầm, sàn | C7: m² | D7: 1820 | E7: 309400000
A8: 5 | B8: Xây tường gạch 2 lỗ dày 220 | C8: m³ | D8: 86.2 | E8: 112060000

Sheet Gộp giữ data
A1: THUYẾT MINH KHỐI LƯỢNG — PHẦN MÓNG | F1: ← Mục lục
A3: STT | B3: Diễn giải khối lượng | C3: ĐVT | D3: Khối lượng
A4: 1 | B4: Bê tông lót đá 4x6 M100 | C4: m³ | D4: 12.5
B5: dày 100 mm, khối lượng 12,5 m³
B6: Vị trí: móng M1, M2 (trục 1–3)
A7: 2 | B7: Bê tông móng M300 | C7: m³ | D7: 412.6

Sheet Gộp ô giống nhau
A1: THỐNG KÊ CỐT THÉP — MÓNG, CỘT TẦNG 1 | G1: ← Mục lục
A3: Cấu kiện | B3: Số hiệu | C3: Đường kính | D3: Chiều dài (mm) | E3: Số thanh
A4: Móng M1 | B4: 1 | C4: ø16 | D4: 2350 | E4: 24
A5: Móng M1 | B5: 2 | C5: ø12 | D5: 2350 | E5: 24
A6: Móng M1 | B6: 3 | C6: ø8 | D6: 1420 | E6: 36
A7: Cột C1 | B7: 4 | C7: ø20 | D7: 3900 | E7: 8
A8: Cột C1 | B8: 5 | C8: ø8 | D8: 1560 | E8: 30
A9: Cột C1 | B9: 6 | C9: ø8 | D9: 980 | E9: 30

Sheet Gộp dòng theo key
A1: ĐO BÓC BÊ TÔNG THEO CẤU KIỆN | E1: ← Mục lục
A3: Mã CT | B3: Khối lượng | C3: Vị trí
A4: AF.11110 | B4: 12.5 | C4: Móng M1
A5: AF.11110 | B5: 8.4 | C5: Móng M2
A6: AF.12220 | B6: 6.2 | C6: Cột C1
A7: AF.11110 | B7: 6.3 | C7: Móng M3
A8: AF.12220 | B8: 5.9 | C8: Cột C2
A9: AF.13110 | B9: 24.6 | C9: Dầm D1

Sheet Tự nhóm theo cấp
A1: BẢNG KHỐI LƯỢNG — NHÀ VĂN PHÒNG 9 TẦNG | F1: ← Mục lục
A3: TT | B3: Nội dung công việc | C3: ĐVT | D3: Khối lượng
A4: 1 | B4: PHẦN NGẦM
A5: 1.1 | B5: Công tác đất
A6: 1.1.1 | B6: Đào đất hố móng bằng máy | C6: m³ | D6: 1250
A7: 1.1.2 | B7: Lấp đất hố móng, đầm chặt K95 | C7: m³ | D7: 640
A8: 1.2 | B8: Bê tông móng
A9: 1.2.1 | B9: Bê tông lót móng M100 | C9: m³ | D9: 38.5
A10: 1.2.2 | B10: Bê tông móng M300 | C10: m³ | D10: 412.6
A11: 2 | B11: PHẦN THÂN
A12: 2.1 | B12: Bê tông cột tầng 1–3, M300 | C12: m³ | D12: 54.6
A13: 2.2 | B13: Bê tông dầm sàn tầng 1–3, M300 | C13: m³ | D13: 193.5

Sheet AutoFit gộp ô
A1: BIÊN BẢN NGHIỆM THU CÔNG VIỆC XÂY DỰNG | H1: ← Mục lục
A3: 1. Đối tượng nghiệm thu:
B4: Công tác cốt thép móng M1, M2 — thép chủ ø18 nhóm CB400-V, thép đai ø8a150; đã kiểm tra chủng loại, số lượng, khoảng cách và lớp bê tông bảo vệ.
A5: 2. Thời gian nghiệm thu:
B6: Bắt đầu 08:00 ngày 08/10/2026 — kết thúc 10:30 ngày 08/10/2026
A7: 3. Đánh giá công việc đã thực hiện:
B8: Công việc thực hiện đúng bản vẽ thi công KC-03 đến KC-07, phù hợp TCVN 4453:1995 và chỉ dẫn kỹ thuật của dự án; đủ điều kiện chuyển sang lắp dựng ván khuôn và đổ bê tông móng.

Sheet Chọn ô hiện
A1: BẢNG KHỐI LƯỢNG — NHÀ VĂN PHÒNG 9 TẦNG | G1: ← Mục lục
A3: STT | B3: Hạng mục | C3: Nội dung công việc | D3: ĐVT | E3: Khối lượng
A4: 1 | B4: Phần ngầm | C4: Bê tông móng M300 | D4: m³ | E4: 412.6
A5: 2 | B5: Phần ngầm | C5: Cốt thép móng CB400-V | D5: tấn | E5: 36.8
A6: 3 | B6: Phần thân | C6: Bê tông cột tầng 1–3, M300 | D6: m³ | E6: 54.6
A7: 4 | B7: Phần thân | C7: Bê tông dầm sàn tầng 1–3, M300 | D7: m³ | E7: 193.5
A8: 5 | B8: Phần ngầm | C8: Ván khuôn móng | D8: m² | E8: 864
A9: 6 | B9: Phần thân | C9: Cốt thép cột, dầm, sàn CB400-V | D9: tấn | E9: 38.9
A10: 7 | B10: Phần thân | C10: Ván khuôn cột, dầm, sàn | D10: m² | E10: 1820
A11: 8 | B11: Phần ngầm | C11: Lấp đất hố móng K95 | D11: m³ | E11: 640

Sheet Copy-Paste hiện
A1: KHỐI LƯỢNG NGHIỆM THU — KẾT CẤU THÂN | G1: ← Mục lục
A3: Mã CK | B3: Cấu kiện | C3: Tầng | D3: ĐVT | E3: KL thực tế
A4: C4-01 | B4: Cột trục A-1 | C4: Tầng 4 | D4: m³
A5: C5-01 | B5: Cột trục A-1 | C5: Tầng 5 | D5: m³
A6: C4-02 | B6: Cột trục A-2 | C6: Tầng 4 | D6: m³
A7: C5-02 | B7: Cột trục A-2 | C7: Tầng 5 | D7: m³
A8: D4-01 | B8: Dầm trục A, nhịp 1–2 | C8: Tầng 4 | D8: m³
A9: D5-01 | B9: Dầm trục A, nhịp 1–2 | C9: Tầng 5 | D9: m³
A10: S4-01 | B10: Sàn ô S1 | C10: Tầng 4 | D10: m³
A11: S5-01 | B11: Sàn ô S1 | C11: Tầng 5 | D11: m³

Sheet Nối chuỗi
A1: TT | B1: Mã sheet | C1: Biểu mẫu | E1: Sheet cần in | G1: ← Mục lục
A2: 1 | B2: YCNTCV | C2: Phiếu yêu cầu nghiệm thu công việc
A3: 2 | B3: BBNTCV | C3: Biên bản nghiệm thu công việc xây dựng
A4: 3 | B4: KT_DD | C4: Bản kiểm tra đo đạc kích thước

Sheet Nối ô gộp
A1: BIÊN BẢN NGHIỆM THU CÔNG VIỆC | H1: ← Mục lục
A3: Công trình: | B3: Nhà văn phòng 9 tầng | F3: Ô thay khi in
A4: Hạng mục: | B4: Bê tông móng M1, M2
A5: Vị trí: | B5: Trục 1–3 / A–C
A6: Ngày nghiệm thu: | B6: 46303

Sheet Xem công thức
A1: TỔNG HỢP KHỐI LƯỢNG TẦNG 5 | G1: ← Mục lục
A3: TT | B3: Mã hiệu | C3: Nội dung công việc | D3: ĐVT | E3: Tầng 5
A4: 1 | B4: AF.12315 | C4: Bê tông cột M300 | D4: m³ | E4: =SUMIFS('KL Tang 5'!$H$5:$H$400,'KL Tang 5'!$C$5:$C$400,B4) -> 18.46
A5: 2 | B5: AF.12415 | C5: Bê tông dầm, sàn M300 | D5: m³ | E5: =SUMIFS('KL Tang 5'!$H$5:$H$400,'KL Tang 5'!$C$5:$C$400,B5) -> 96.8
A6: 3 | B6: AF.61531 | C6: Cốt thép dầm, sàn d ≤ 18 mm | D6: tấn | E6: =SUMIFS('KL Tang 5'!$H$5:$H$400,'KL Tang 4'!$C$5:$C$400,B6) -> 0
A7: 4 | B7: AF.86311 | C7: Ván khuôn dầm, sàn | D7: 100m² | E7: =SUMIFS('KL Tang 5'!$H$5:$H$400,'KL Tang 5'!$C$5:$C$400,B7) -> 7.92

Sheet KL Tang 4
A1: KHỐI LƯỢNG CHI TIẾT TẦNG 4 | J1: ← Mục lục
A4: TT | B4: Diễn giải | C4: Mã hiệu | D4: ĐVT | H4: Khối lượng
A5: 1 | B5: Cột trục A | C5: AF.12315 | D5: m³ | H5: 9.1
A6: 2 | B6: Cột trục B | C6: AF.12315 | D6: m³ | H6: 9.1
A7: 3 | B7: Dầm, sàn khu 1 | C7: AF.12415 | D7: m³ | H7: 56.4
A8: 4 | B8: Dầm, sàn khu 2 | C8: AF.12415 | D8: m³ | H8: 37.2
A9: 5 | B9: Vách thang máy | C9: AF.12515 | D9: m³ | H9: 12.6
A10: 6 | B10: Ván khuôn dầm, sàn | C10: AF.86311 | D10: 100m² | H10: 7.64
A11: 7 | B11: Ván khuôn vách | C11: AF.86411 | D11: 100m² | H11: 2.18
A12: 8 | B12: Thép dầm, sàn khu 1 | C12: AF.61531 | D12: tấn | H12: 5.9
A13: 9 | B13: Thép dầm, sàn khu 2 | C13: AF.61531 | D13: tấn | H13: 3.55

Sheet KL Tang 5
A1: KHỐI LƯỢNG CHI TIẾT TẦNG 5 | J1: ← Mục lục
A4: TT | B4: Diễn giải | C4: Mã hiệu | D4: ĐVT | H4: Khối lượng
A5: 1 | B5: Cột trục A | C5: AF.12315 | D5: m³ | H5: 9.23
A6: 2 | B6: Cột trục B | C6: AF.12315 | D6: m³ | H6: 9.23
A7: 3 | B7: Dầm, sàn khu 1 | C7: AF.12415 | D7: m³ | H7: 58.3
A8: 4 | B8: Dầm, sàn khu 2 | C8: AF.12415 | D8: m³ | H8: 38.5
A9: 5 | B9: Thép dầm, sàn khu 1 | C9: AF.61531 | D9: tấn | H9: 6.15
A10: 6 | B10: Thép dầm, sàn khu 2 | C10: AF.61531 | D10: tấn | H10: 3.7
A11: 7 | B11: Ván khuôn dầm, sàn | C11: AF.86311 | D11: 100m² | H11: 7.92

Sheet Truy vết Lookup
A1: BẢNG DỰ TOÁN CHI TIẾT — PHẦN MÓNG | H1: ← Mục lục
A3: TT | B3: Mã hiệu | C3: Nội dung công việc | D3: ĐVT | E3: Khối lượng | F3: Đơn giá
A4: 1 | B4: AB.11213 | C4: Đào móng thủ công, đất cấp III | D4: m³ | E4: 42.5 | F4: =VLOOKUP(B4,'DON GIA'!$A$5:$D$400,4,0) -> 285000
A5: 2 | B5: AF.11120 | C5: Bê tông lót móng M100, đá 4x6 | D5: m³ | E5: 12.4 | F5: =VLOOKUP(B5,'DON GIA'!$A$5:$D$400,4,0) -> 1320000
A6: 3 | B6: AF.11220 | C6: Bê tông móng M250, đá 1x2 | D6: m³ | E6: 86.5 | F6: =VLOOKUP(B6,'DON GIA'!$A$5:$D$400,4,0) -> 1850000
A7: 4 | B7: AF.61120 | C7: Cốt thép móng d ≤ 18 mm | D7: tấn | E7: 7.85 | F7: =VLOOKUP(B7,'DON GIA'!$A$5:$D$400,4,0) -> 21500000
A8: 5 | B8: AF.81122 | C8: Ván khuôn móng | D8: 100m² | E8: 2.1 | F8: =VLOOKUP(B8,'DON GIA'!$A$5:$D$400,4,0) -> 6240000

Sheet DON GIA
A1: BẢNG ĐƠN GIÁ CHI TIẾT | F1: ← Mục lục
A2: Công trình: Nhà văn phòng 9 tầng
A4: Mã hiệu | B4: Tên công tác | C4: ĐVT | D4: Đơn giá
A5: AB.11213 | B5: Đào móng thủ công, đất cấp III | C5: m³ | D5: 285000
A6: AF.11120 | B6: Bê tông lót móng M100 | C6: m³ | D6: 1320000
A7: AF.11210 | B7: Bê tông móng M200 | C7: m³ | D7: 1710000
A8: AF.11220 | B8: Bê tông móng M250 | C8: m³ | D8: 1850000
A9: AF.61120 | B9: Cốt thép móng d ≤ 18 mm | C9: tấn | D9: 21500000
A10: AF.81122 | B10: Ván khuôn móng | C10: 100m² | D10: 6240000

Sheet Ô phụ thuộc
A1: THAM SỐ TÍNH TOÁN TIẾN ĐỘ | F1: ← Mục lục
A3: TT | B3: Tham số | C3: Giá trị | D3: ĐVT
A4: 1 | B4: Hệ số ca máy | C4: 1.15 | D4: -
A5: 2 | B5: Hệ số nhân công | C5: 1.05 | D5: -
A6: 3 | B6: Số giờ làm việc một ca | C6: 8 | D6: giờ

Sheet Tự động tổng
A1: KHỐI LƯỢNG BÊ TÔNG PHẦN THÔ — NHÀ VĂN PHÒNG 9 TẦNG | F1: ← Mục lục
A3: Hạng mục | B3: Nội dung công việc | C3: ĐVT | D3: Khối lượng
A4: MÓNG
B5: Bê tông lót móng M100 | C5: m³ | D5: 12.4
B6: Bê tông móng M250 | C6: m³ | D6: 86.5
B7: Bê tông giằng móng M250 | C7: m³ | D7: 18.3
A8: THÂN
B9: Bê tông cột tầng 1 M300 | C9: m³ | D9: 34.2
B10: Bê tông dầm, sàn tầng 2 M300 | C10: m³ | D10: 96.8
B11: Bê tông cầu thang bộ M300 | C11: m³ | D11: 6.45

Sheet Điền kết quả
A1: TIÊN LƯỢNG PHẦN MÓNG — NHÀ VĂN PHÒNG 9 TẦNG | F1: ← Mục lục
A3: TT | B3: Diễn giải | C3: ĐVT | D3: Khối lượng
A4: 1 | B4: Đào hố móng M1: 4 hố x 2,5 x 2,5 x 1,6 | C4: m³ | D4: 40
A5: 2 | B5: Giằng móng: 2 x 18,4 x 0,4 x 0,5 | C5: m³ | D5: 7.36
A6: 3 | B6: Bê tông lót: 4 x 2,7 x 2,7 x 0,1 | C6: m³ | D6: 2.92
A7: 4 | B7: Cổ cột C1: 4 x 0,3 x 0,3 x 1,2 | C7: m³ | D7: 0.43

Sheet Tham chiếu
A1: BẢNG KHỐI LƯỢNG — PHẦN MÓNG | G1: ← Mục lục
A3: TT | B3: Mã hiệu | C3: Nội dung công việc | D3: Khối lượng | E3: Đơn giá
A4: 1 | B4: AB.11213 | C4: Đào móng thủ công, đất cấp III | D4: 42.5
A5: 2 | B5: AF.11120 | C5: Bê tông lót móng M100 | D5: 12.4
A6: 3 | B6: AF.11220 | C6: Bê tông móng M250 | D6: 86.5
A7: 4 | B7: AF.61120 | C7: Cốt thép móng d ≤ 18 mm | D7: 7.85
A8: 5 | B8: AF.8112 | C8: Ván khuôn móng | D8: 2.1

Sheet DON GIA (2)
A1: BẢNG ĐƠN GIÁ CHI TIẾT — PHẦN MÓNG | F1: ← Mục lục
A4: Mã hiệu | B4: Tên công việc | C4: Đơn vị | D4: Đơn giá
A5: AB.11213 | B5: Đào móng thủ công, đất cấp III | C5: m³ | D5: 285000
A6: AF.11120 | B6: Bê tông lót móng M100 | C6: m³ | D6: 1320000
A7: AB.13112 | B7: Đắp đất hố móng, độ chặt K = 0,90 | C7: m³ | D7: 96000
A8: AF.11220 | B8: Bê tông móng M250 | C8: m³ | D8: 1850000
A9: AF.61120 | B9: Cốt thép móng d ≤ 18 mm | C9: tấn | D9: 21500000
A10: AF.81122 | B10: Ván khuôn móng | C10: 100 m² | D10: 7650000

Sheet Hàm làm tròn
A1: KHỐI LƯỢNG BÊ TÔNG CẤU KIỆN — TẦNG 1 | I1: ← Mục lục
A3: TT | B3: Cấu kiện | C3: Số CK | D3: Dài (m) | E3: Rộng (m) | F3: Cao (m) | G3: KL (m³)
A4: 1 | B4: Móng M1 | C4: 4 | D4: 2.45 | E4: 2.45 | F4: 0.75 | G4: =C4*D4*E4*F4 -> 18.0075
A5: 2 | B5: Giằng móng GM1 | C5: 2 | D5: 18.35 | E5: 0.35 | F5: 0.55 | G5: =C5*D5*E5*F5 -> 7.06475
A6: 3 | B6: Cổ cột C1 | C6: 4 | D6: 0.33 | E6: 0.33 | F6: 1.15 | G6: =C6*D6*E6*F6 -> 0.50094
A7: 4 | B7: Dầm D1 | C7: 6 | D7: 5.65 | E7: 0.22 | F7: 0.45 | G7: =C7*D7*E7*F7 -> 3.3561
A8: 5 | B8: Sàn S1 | C8: 1 | D8: 12.45 | E8: 7.85 | F8: 0.12 | G8: =C8*D8*E8*F8 -> 11.7279

Sheet Khóa tham chiếu
A1: THỐNG KÊ CỐT THÉP SÀN TẦNG 3 | G1: ← Mục lục
A3: Ký hiệu | B3: Đ.kính (mm) | C3: Số thanh | D3: Dài 1 thanh (m) | E3: Khối lượng (kg)
A4: S1 | B4: 10 | C4: 45 | D4: 6.2 | E4: =C4*D4*VLOOKUP(B4,BANGTHEP!A2:B12,2,0) -> 172.14
A5: S2 | B5: 10 | C5: 38 | D5: 4.85 | E5: =C5*D5*VLOOKUP(B5,BANGTHEP!A2:B12,2,0) -> 113.71
A6: S3 | B6: 12 | C6: 26 | D6: 7.4 | E6: =C6*D6*VLOOKUP(B6,BANGTHEP!A2:B12,2,0) -> 170.85
A7: S4 | B7: 8 | C7: 60 | D7: 2.35 | E7: =C7*D7*VLOOKUP(B7,BANGTHEP!A2:B12,2,0) -> 55.7
A8: S5 | B8: 14 | C8: 12 | D8: 5.9 | E8: =C8*D8*VLOOKUP(B8,BANGTHEP!A2:B12,2,0) -> 85.67

Sheet BANGTHEP
A1: Đ.kính (mm) | B1: kg/m | D1: ← Mục lục
A2: 6 | B2: 0.222
A3: 8 | B3: 0.395
A4: 10 | B4: 0.617
A5: 12 | B5: 0.888
A6: 14 | B6: 1.21
A7: 16 | B7: 1.58
A8: 18 | B8: 2
A9: 20 | B9: 2.47
A10: 22 | B10: 2.98
A11: 25 | B11: 3.85
A12: 28 | B12: 4.83

Sheet Kiểm tra lỗi
A1: BẢNG TỔNG HỢP KINH PHÍ — NHÀ VĂN PHÒNG 9 TẦNG | G1: ← Mục lục
A3: TT | B3: Hạng mục | C3: Khối lượng | D3: Đơn giá | E3: Thành tiền
A4: I | B4: PHẦN MÓNG | E4: =SUM(E5:E7) -> 206033000
A5: 1 | B5: Bê tông lót móng M100 | C5: 12.4 | D5: 1320000 | E5: =C5*D5 -> 16368000
A6: 2 | B6: Bê tông móng M250 | C6: 86.5 | D6: 1850000 | E6: =C6*D6 -> 160025000
A7: 3 | B7: Ván khuôn móng | C7: 4.75 | D7: 6240000 | E7: =C7*D7 -> 29640000
A8: II | B8: PHẦN THÂN | E8: =SUM(E9:E9) -> 242350000
A9: 1 | B9: Bê tông cột, dầm, sàn M300 | C9: 131 | D9: 1850000 | E9: =C9*D9 -> 242350000

Sheet Tô màu Shape
A1: TIẾN ĐỘ ĐỔ BÊ TÔNG SÀN TẦNG 3 | G1: ← Mục lục
A3: Tên Shape | B3: Mã màu | C3: Trạng thái | D3: Ngày đổ | E3: Vị trí
A4: O_A1 | B4: =IF(C4="Đã đổ",5296274,IF(C4="Đang TC",65535,12632256)) -> 5296274 | C4: Đã đổ | D4: 46283 | E4: Trục 1–2 × A–B
A5: O_A2 | B5: =IF(C5="Đã đổ",5296274,IF(C5="Đang TC",65535,12632256)) -> 5296274 | C5: Đã đổ | D5: 46283 | E5: Trục 2–3 × A–B
A6: O_B1 | B6: =IF(C6="Đã đổ",5296274,IF(C6="Đang TC",65535,12632256)) -> 65535 | C6: Đang TC | D6: 46303 | E6: Trục 1–2 × B–C
A7: O_B2 | B7: =IF(C7="Đã đổ",5296274,IF(C7="Đang TC",65535,12632256)) -> 65535 | C7: Đang TC | D7: 46303 | E7: Trục 2–3 × B–C
A8: O_C1 | B8: =IF(C8="Đã đổ",5296274,IF(C8="Đang TC",65535,12632256)) -> 12632256 | C8: Chưa TC | E8: Trục 1–2 × C–D
A9: O_C2 | B9: =IF(C9="Đã đổ",5296274,IF(C9="Đang TC",65535,12632256)) -> 12632256 | C9: Chưa TC | E9: Trục 2–3 × C–D

Sheet Vẽ hình chữ nhật màu
A1: TIẾN ĐỘ ĐỔ SÀN TẦNG 5 THEO TUẦN | I1: ← Mục lục
A2: Phân khu | B2: Tuần đổ | C2: Tuần thi công
C3: 1 | D3: 2 | E3: 3 | F3: 4 | G3: 5
A4: S1 | B4: 2 | C4: =IF(C$3<$B4,12632256,IF(C$3=$B4,65535,5296274)) -> 12632256 | D4: =IF(D$3<$B4,12632256,IF(D$3=$B4,65535,5296274)) -> 65535 | E4: =IF(E$3<$B4,12632256,IF(E$3=$B4,65535,5296274)) -> 5296274 | F4: =IF(F$3<$B4,12632256,IF(F$3=$B4,65535,5296274)) -> 5296274 | G4: =IF(G$3<$B4,12632256,IF(G$3=$B4,65535,5296274)) -> 5296274
A5: S2 | B5: 3 | C5: =IF(C$3<$B5,12632256,IF(C$3=$B5,65535,5296274)) -> 12632256 | D5: =IF(D$3<$B5,12632256,IF(D$3=$B5,65535,5296274)) -> 12632256 | E5: =IF(E$3<$B5,12632256,IF(E$3=$B5,65535,5296274)) -> 65535 | F5: =IF(F$3<$B5,12632256,IF(F$3=$B5,65535,5296274)) -> 5296274 | G5: =IF(G$3<$B5,12632256,IF(G$3=$B5,65535,5296274)) -> 5296274
A6: S3 | B6: 4 | C6: =IF(C$3<$B6,12632256,IF(C$3=$B6,65535,5296274)) -> 12632256 | D6: =IF(D$3<$B6,12632256,IF(D$3=$B6,65535,5296274)) -> 12632256 | E6: =IF(E$3<$B6,12632256,IF(E$3=$B6,65535,5296274)) -> 12632256 | F6: =IF(F$3<$B6,12632256,IF(F$3=$B6,65535,5296274)) -> 65535 | G6: =IF(G$3<$B6,12632256,IF(G$3=$B6,65535,5296274)) -> 5296274
A7: S4 | B7: 5 | C7: =IF(C$3<$B7,12632256,IF(C$3=$B7,65535,5296274)) -> 12632256 | D7: =IF(D$3<$B7,12632256,IF(D$3=$B7,65535,5296274)) -> 12632256 | E7: =IF(E$3<$B7,12632256,IF(E$3=$B7,65535,5296274)) -> 12632256 | F7: =IF(F$3<$B7,12632256,IF(F$3=$B7,65535,5296274)) -> 12632256 | G7: =IF(G$3<$B7,12632256,IF(G$3=$B7,65535,5296274)) -> 65535

Sheet Danh sách shape
A1: DANH SÁCH SHAPE — MB TẦNG 3 | D1: ← Mục lục
A3: Tên Shape

Sheet Đổi tên Shape
A1: ĐỔI TÊN ĐÀI MÓNG | D1: ← Mục lục
A3: Tên cũ | B3: Tên mới
A4: Rectangle 12 | B4: DM_A1
A5: Rectangle 13 | B5: DM_A2
A6: Rectangle 14 | B6: DM_B1
A7: Rectangle 15 | B7: DM_B2
A8: Rectangle 16 | B8: DM_C1

Sheet Lấy vị trí
A1: TOẠ ĐỘ CÁC KHỐI LÁN TRẠI | D1: ← Mục lục
A3: Tên Shape | B3: Top;Left
A4: LanTrai_BCH
A5: KhoVatTu
A6: BaiDucCauKien
A7: CongChinh

Sheet Gắn nhãn liên kết
A1: THEO DÕI ĐỔ BÊ TÔNG MÓNG | E1: ← Mục lục
A3: Móng | B3: Mã màu | C3: Ngày đổ BT
A4: 1 | B4: 5296274 | C4: 46285
A5: 2 | B5: 5296274 | C5: 46286
A6: 3 | B6: 5296274 | C6: 46287
A7: 4 | B7: 5296274 | C7: 46289
A8: 5 | B8: 5296274 | C8: 46291
A9: 6 | B9: 5296274 | C9: 46294
A10: 7 | B10: 65535 | C10: 46301
A11: 8 | B11: 65535 | C11: 46302
A12: 9 | B12: 12632256
A13: 10 | B13: 12632256
A14: 11 | B14: 12632256
A15: 12 | B15: 12632256

Sheet Tiến độ mặt bằng
A1: THEO DÕI TIẾN ĐỘ MẶT BẰNG | L1: ← Mục lục
A2: Mặt bằng: | B2: MB cọc | D2: Ngày dữ liệu: | E2: 46303 | G2: Độ trong suốt (%) | H2: 30
G3: Trạng thái | H3: Màu | I3: Số lượng | J3: Tỉ lệ
A4: STT | B4: Tên shape | C4: Trạng thái | D4: Ngày | E4: Ghi chú | G4: Chưa thi công | I4: 3 | J4: 0.375
A5: 1 | B5: P1 | C5: Đã nghiệm thu | D5: 46297 | G5: Đang thi công | I5: 1 | J5: 0.125
A6: 2 | B6: P2 | C6: Hoàn thành | D6: 46298 | G6: Hoàn thành | I6: 3 | J6: 0.375
A7: 3 | B7: P3 | C7: Hoàn thành | D7: 46298 | G7: Đã nghiệm thu | I7: 1 | J7: 0.125
A8: 4 | B8: P4 | C8: Hoàn thành | D8: 46300
A9: 5 | B9: P5 | C9: Đang thi công | D9: 46303 | E9: Tổ ép số 2
A10: 6 | B10: P6 | C10: Chưa thi công
A11: 7 | B11: P7 | C11: Chưa thi công
A12: 8 | B12: P8 | C12: Chưa thi công

Sheet Lấy mã màu
A1: BẢNG MÀU TIẾN ĐỘ — NHÀ VĂN PHÒNG 9 TẦNG | F1: ← Mục lục
A3: TT | B3: Hạng mục | C3: Màu chuẩn | D3: Mã màu
A4: 1 | B4: Phần ngầm
A5: 2 | B5: Phần thân
A6: 3 | B6: Hoàn thiện

Sheet Auto Click
A1: STT | B1: Timestamp (ms) | C1: X | D1: Y | E1: Wait (ms) | G1: ← Mục lục
A2: 1 | B2: 18452310 | C2: (tự ghi) | D2: (tự ghi) | E2: 0
A3: 2 | B3: 18454120 | C3: (tự ghi) | D3: (tự ghi) | E3: 1810
A4: 3 | B4: 18455985 | C4: (tự ghi) | D4: (tự ghi) | E4: 1865
A5: 4 | B5: 18458410 | C5: (tự ghi) | D5: (tự ghi) | E5: 2425

Sheet Chèn ảnh
A1: NHẬT KÝ ẢNH HIỆN TRƯỜNG — TUẦN 41/2026 | F1: ← Mục lục
A2: Công trình: Nhà văn phòng 9 tầng
A3: TT | B3: Hạng mục / vị trí | C3: Ảnh hiện trường | D3: Ghi chú
A4: 1 | B4: Lắp cốt thép sàn tầng 3, trục 1-3 | D4: Nghiệm thu 06/10
A7: 2 | B7: Ván khuôn dầm tầng 3, trục A-B | D7: Chờ TVGS
A10: 3 | B10: Đổ bê tông móng M3, B25 | D10: Lấy 2 tổ mẫu
A13: 4 | B13: Xây tường bao tầng 2 | D13: Đạt

Sheet Chèn theo tên
A1: THEO DÕI ẢNH CẤU KIỆN ĐÚC SẴN | F1: ← Mục lục
A2: Công trình: Nhà văn phòng 9 tầng
A3: TT | B3: Mã cấu kiện (tên ảnh) | C3: Ảnh | D3: Ngày đúc
A4: 1 | B4: CK-001 | D4: 46297
A5: 2 | B5: CK-002 | D5: 46298
A6: 3 | B6: CK-003.jpg | D6: 46300
A7: 4 | B7: CK-004 | D7: 46301

Sheet Comment ảnh
A1: BẢNG THỐNG KÊ THÉP SÀN TẦNG 2 | J1: ← Mục lục
A3: TT | B3: Ô sàn | C3: Thép | D3: Số thanh | E3: KL (kg) | F3: Ghi chú hiện trường
A4: 1 | B4: Trục A-B / 1-2 | C4: Ø10a150 | D4: 86 | E4: 212.4 | F4: Lưới thép lớp dưới
A5: 2 | B5: Trục B-C / 1-2 | C5: Ø10a150 | D5: 86 | E5: 212.4
A6: 3 | B6: Trục A-B / 2-3 | C6: Ø12a200 | D6: 64 | E6: 227.3
A7: 4 | B7: Trục B-C / 2-3 | C7: Ø12a200 | D7: 64 | E7: 227.3

Sheet Comment theo tên
A1: DANH MỤC NGHIỆM THU CÔNG TÁC XÂY TƯỜNG TẦNG 5 | G1: ← Mục lục
A3: Số phiếu | B3: Công việc | C3: Vị trí | D3: Ngày NT | E3: Kết quả
A4: NT-501 | B4: Xây tường gạch 220 | C4: Trục 1-2 | D4: 46296 | E4: Đạt
A5: NT-502 | B5: Xây tường gạch 220 | C5: Trục 2-3 | D5: 46297 | E5: Đạt
A6: NT-503 | B6: Xây tường gạch 110 | C6: Trục A-B | D6: 46298 | E6: Đạt
A7: NT-504 | B7: Lanh tô cửa đi | C7: Trục B-C | D7: 46300 | E7: Đạt
A8: NT-505 | B8: Trát tường trong | C8: Trục 1-3 | D8: 46302 | E8: Chờ

Sheet Chỉnh ảnh
A1: NHẬT KÝ THI CÔNG — TUẦN 41/2026 | G1: ← Mục lục
A3: Ngày | B3: Công việc | C3: Ảnh | D3: Ghi chú
A4: 46301 | B4: Đổ bê tông móng M2, B25 | C4: 📷 M2.jpg | D4: 18 m³ — lấy 2 tổ mẫu
A8: 46302 | B8: Đổ bê tông móng M3, B25 | D8: 21 m³ — lấy 2 tổ mẫu
D9: 📷 M3.jpg

Sheet Chụp và Ghi chú
A1: BIÊN BẢN HỌP GIAO BAN TUẦN 41/2026 | F1: ← Mục lục
A2: Công trình: Nhà văn phòng 9 tầng
A4: 1. | B4: Tiến độ phần móng: đạt 85 % kế hoạch.
A5: 2. | B5: TVGS: cao độ đáy đài ĐM-4 trên bản vẽ shop không khớp thiết kế.
A6: 3. | B6: Nhà thầu kiểm tra, trình bản sửa trước 10/10/2026.
B8: Ảnh minh hoạ:

Sheet Mây đa giác
A1: MẶT BẰNG THÉP SÀN TẦNG 3 — VÙNG TĂNG CƯỜNG | K1: ← Mục lục
B7: Tăng cường | F7: LỖ MỞ
B8: Ø12a100

Sheet Mây quanh vùng chọn
A1: BẢNG KHỐI LƯỢNG THANH TOÁN ĐỢT 3 | I1: ← Mục lục
A2: Công trình: Nhà văn phòng 9 tầng
A3: TT | B3: Mã hiệu | C3: Nội dung công việc | D3: ĐVT | E3: Đợt 2 | F3: Đợt 3
A4: 1 | B4: AB.25112 | C4: Đào móng bằng máy, đất cấp II | D4: m³ | E4: 412.5 | F4: 412.5
A5: 2 | B5: AF.11114 | C5: Bê tông lót móng M100, đá 4x6 | D5: m³ | E5: 18.6 | F5: 21.3
A6: 3 | B6: AF.22224 | C6: Bê tông móng M300, đá 1x2 | D6: m³ | E6: 186.4 | F6: 186.4
A7: 4 | B7: AF.61120 | C7: Cốt thép móng Ø ≤ 18 mm | D7: tấn | E7: 14.82 | F7: 14.82
A8: 5 | B8: AF.81111 | C8: Ván khuôn móng | D8: 100m² | E8: 3.46 | F8: 3.92
A9: 6 | B9: AE.22214 | C9: Xây tường gạch 220, vữa M75 | D9: m³ | E9: 96 | F9: 96
A10: 7 | B10: AK.21224 | C10: Trát tường trong dày 1,5 cm | D10: m² | E10: 1240 | F10: 1240
A11: 8 | B11: AK.84114 | C11: Sơn tường trong 1 lót 2 phủ | D11: m² | E11: 1240 | F11: 1315

Sheet Danh sách tên file
A1: BẢNG KÊ BẢN VẼ SHOP DRAWING — PHẦN KẾT CẤU | H1: ← Mục lục
A2: Công trình: Nhà văn phòng 9 tầng
A3: Kèm phiếu chuyển giao số 15/2026

Sheet Tách bảng
A1: BẢNG KHỐI LƯỢNG TỔNG HỢP — NHÀ VĂN PHÒNG 9 TẦNG | G1: ← Mục lục
A3: TT | B3: Hạng mục | C3: Nội dung công việc | D3: ĐVT | E3: Khối lượng
A4: 1 | B4: Phần móng | C4: Đào đất hố móng | D4: m³ | E4: 412.6
A5: 2 | B5: Phần móng | C5: Bê tông lót móng M100 | D5: m³ | E5: 18.4
A6: 3 | B6: Phần móng | C6: Bê tông móng B25 | D6: m³ | E6: 126.3
A7: 4 | B7: Phần móng | C7: Cốt thép móng CB400-V | D7: tấn | E7: 9.85
A8: 5 | B8: Phần thân | C8: Bê tông cột B30 | D8: m³ | E8: 38.7
A9: 6 | B9: Phần thân | C9: Bê tông dầm sàn B30 | D9: m³ | E9: 164.2
A10: 7 | B10: Phần thân | C10: Cốt thép dầm sàn CB400-V | D10: tấn | E10: 21.6
A11: 8 | B11: Phần thân | C11: Ván khuôn dầm sàn | D11: m² | E11: 1142.5
A12: 9 | B12: Hoàn thiện | C12: Xây tường gạch rỗng 220 | D12: m³ | E12: 96.8
A13: 10 | B13: Hoàn thiện | C13: Trát tường trong VXM M75 | D13: m² | E13: 2316
A14: 11 | B14: Hoàn thiện | C14: Lát nền gạch granite 600x600 | D14: m² | E14: 845
A15: 12 | B15: Hoàn thiện | C15: Sơn tường trong nhà | D15: m² | E15: 2316

Sheet So sánh sheet
A1: So sánh sheet | B1: DuToan_PhatHanh.xlsx / Dự toán | C1: ↔ | D1: DuToan_NhaThauGuiLai.xlsx / Dự toán | F1: ← Mục lục
A2: Ô đã so | B2: 65 | C2: Khác nhau | D2: 8
A4: Ô | B4: Ở A | C4: Ở B | D4: Loại
A5: E6 | B5: 125000 | C5: 128500 | D5: khác nhau
A6: E9 | B6: 365000 | C6: 392000 | D6: khác nhau
A7: D11 | B7: 145 | C7: 152 | D7: khác nhau
A8: A13 | C8: 10 | D8: chỉ có ở B
A9: B13 | C9: Chống thấm sàn vệ sinh | D9: chỉ có ở B
A10: C13 | C10: m² | D10: chỉ có ở B
A11: D13 | C11: 86 | D11: chỉ có ở B
A12: E13 | C12: 245000 | D12: chỉ có ở B

Sheet Trộn bảng
A1: BẢNG KHỐI LƯỢNG — NHÀ VĂN PHÒNG 9 TẦNG | G1: ← Mục lục
A3: TT | B3: Mã hiệu | C3: Nội dung công việc | D3: Đơn vị | E3: Khối lượng
A4: 1 | B4: AB.25112 | C4: Đào móng bằng máy đào | E4: 412.6
A5: 2 | B5: AF.11113 | C5: Bê tông lót móng M100 | E5: 18.4
A6: 3 | B6: AF.61120 | C6: Cốt thép móng d ≤ 18 | E6: 9.85
A7: 4 | B7: AF.11213 | C7: Bê tông móng B25 | E7: 126.3
A8: 5 | B8: AF.81122 | C8: Ván khuôn móng | E8: 236
A9: 6 | B9: AE.22223 | C9: Xây tường gạch rỗng 220 | E9: 96.8
A10: 7 | B10: AK.21224 | C10: Trát tường trong VXM M75 | E10: 2316
A11: 8 | B11: AK.5122 | C11: Lát nền gạch granite 600x600 | E11: 845

Sheet Đơn giá
A1: BẢNG ĐƠN GIÁ CÔNG TY — QUÝ IV/2026 | F1: ← Mục lục
A2: Mã hiệu | B2: Tên công việc | C2: Đơn vị | D2: Đơn giá
A3: AB.11213 | B3: Đào móng thủ công, đất cấp III | C3: m³ | D3: 285000
A4: AB.25112 | B4: Đào móng bằng máy đào | C4: m³ | D4: 86500
A5: AE.22223 | B5: Xây tường gạch rỗng 220 | C5: m³ | D5: 1580000
A6: AF.11113 | B6: Bê tông lót móng M100 | C6: m³ | D6: 1150000
A7: AF.11213 | B7: Bê tông móng B25 | C7: m³ | D7: 1680000
A8: AF.61120 | B8: Cốt thép móng d ≤ 18 | C8: tấn | D8: 23400000
A9: AF.81122 | B9: Ván khuôn móng | C9: m² | D9: 165000
A10: AK.21224 | B10: Trát tường trong VXM M75 | C10: m² | D10: 98000
A11: AK.51223 | B11: Lát nền gạch granite 600x600 | C11: m² | D11: 312000
A12: AK.84112 | B12: Sơn tường trong nhà | C12: m²

Sheet Đổi tên file
F1: ← Mục lục
B2: Tên cũ | C2: Tên mới
B3: IMG_2841.JPG | C3: NT-501_dam_truc-A.jpg
B4: IMG_2842.JPG | C4: NT-501_dam_truc-B.jpg
B5: IMG_2843.JPG | C5: NT-502_san_S1.jpg
B6: IMG_2844.JPG | C6: NT-502_san_S2.jpg
B7: IMG_2845.JPG | C7: NT-503_cot_C3.jpg

Sheet Tạo Hyperlink
A1: DANH MỤC BẢN VẼ THI CÔNG — PHẦN KIẾN TRÚC | F1: ← Mục lục
A2: TT | B2: Ký hiệu | C2: Tên bản vẽ | D2: Đường dẫn file
A3: 1 | B3: KT-01 | C3: Mặt bằng tầng 1 | D3: D:\DuAn\NhaVanPhong\TKBVTC\KT-01.pdf
A4: 2 | B4: KT-02 | C4: Mặt bằng tầng 2–8 | D4: D:\DuAn\NhaVanPhong\TKBVTC\KT-02.pdf
A5: 3 | B5: KT-03 | C5: Mặt đứng trục 1–8 | D5: D:\DuAn\NhaVanPhong\TKBVTC\KT-03.pdf
A6: 4 | B6: KT-04 | C6: Mặt cắt A-A | D6: D:\DuAn\NhaVanPhong\TKBVTC\KT-04.pdf
A7: 5 | B7: KT-05 | C7: Chi tiết cầu thang bộ | D7: D:\DuAn\NhaVanPhong\TKBVTC\KT-05.pdf

Sheet Tạo Folder
F1: ← Mục lục
A2: NhaVanPhong9T | B2: 01_HoSoPhapLy | C2: HopDong
C3: GiayPhepXD
B4: 02_TKBVTC | C4: KienTruc
C5: KetCau
C6: MEP
B7: 03_NghiemThu | C7: Thang_09
C8: Thang_10
B9: 04_NhatKy

Sheet Chuyển âm thanh
B1: BIÊN BẢN HỌP GIAO BAN CÔNG TRƯỜNG | D1: ← Mục lục
B2: Ngày 05/10/2026 — Nhà văn phòng 9 tầng
B3: Nội dung (gỡ băng ghi âm)

Sheet OCR file
A1: CHỨNG CHỈ CHẤT LƯỢNG THÉP D16 — LÔ A245 | D1: ← Mục lục
A2: Nội dung chép từ chứng chỉ (OCR):

Sheet Trích bảng
A1: KẾT QUẢ THÍ NGHIỆM KÉO THÉP — NHÀ VĂN PHÒNG 9 TẦNG | I1: ← Mục lục
A2: Phiếu kết quả số TN-245/2026 (trích từ file PDF của phòng thí nghiệm)

Sheet OCR Screen Clip
A1: BẢNG THEO DÕI CẤP PHỐI BÊ TÔNG — NHÀ VĂN PHÒNG 9 TẦNG | F1: ← Mục lục
A3: TT | B3: Hạng mục | C3: Mác bê tông | D3: Thành phần cấp phối cho 1 m³
A4: 1 | B4: Bê tông lót móng | C4: B7,5 (M100) | D4: Xi măng PCB40: 230 kg — Cát vàng: 520 kg — Đá 4×6: 900 kg — Nước: 175 lít
A5: 2 | B5: Móng, giằng móng | C5: B25 (M350) | D5: Xi măng PCB40: 390 kg — Cát vàng: 620 kg — Đá 1×2: 1170 kg — Nước: 190 lít
A6: 3 | B6: Cột, vách tầng 1–3 | C6: B25 (M350) | D6: Xi măng PCB40: 390 kg — Cát vàng: 620 kg — Đá 1×2: 1170 kg — Nước: 190 lít
A7: 4 | B7: Dầm, sàn tầng 3 | C7: B22,5 (M300)

Sheet In hàng loạt
A1: BIÊN BẢN NGHIỆM THU CÔNG VIỆC XÂY DỰNG | G1: ← Mục lục
A3: Số thứ tự cấu kiện: | B3: 1 | D3: Sheet in: | E3: BBNT+PhuLuc
A5: Cấu kiện: | B5: Cột C1 — trục A/1, tầng 3 | D5: Tên file: | E5: BBNT_Cot_1
A6: Cao độ: | B6: +7,200 ÷ +10,800
A7: Mác bê tông: | B7: B25 (M350)
A8: Ngày nghiệm thu: | B8: 46307

Sheet Đặt lề trang
A1: BIÊN BẢN NGHIỆM THU CÔNG VIỆC XÂY DỰNG | G1: ← Mục lục
A2: Số: BB-01/NT — Công trình: Nhà văn phòng 9 tầng
A4: TT | B4: Công việc nghiệm thu | C4: ĐVT | D4: Khối lượng | E4: Kết luận
A5: 1 | B5: Cốt thép cột tầng 3 (trục 1–5) | C5: tấn | D5: 4.85 | E5: Đạt
A6: 2 | B6: Ván khuôn cột tầng 3 | C6: m² | D6: 126.4 | E6: Đạt

Sheet Sheet → PDF
A1: BẢNG KHỐI LƯỢNG HOÀN THÀNH — ĐỢT 3 | G1: ← Mục lục
A2: Công trình: Nhà văn phòng 9 tầng
A4: TT | B4: Nội dung công việc | C4: ĐVT | D4: Khối lượng | E4: Ghi chú
A5: 1 | B5: Bê tông cột tầng 3, B25 | C5: m³ | D5: 38.6
A6: 2 | B6: Cốt thép cột tầng 3, CB400-V | C6: tấn | D6: 6.42
A7: 3 | B7: Ván khuôn cột tầng 3 | C7: m² | D7: 312.8

Sheet Gửi Email
B1: DANH MỤC GỬI EMAIL | J1: ← Mục lục
B3: 1 | D3: qlda@congty.vn | E3: ntp.dien@congty.vn | F3: giamsat@congty.vn | H3: YCNT — Điện tầng 3
B4: No. | C4: Send Date | D4: Sender Email | E4: To | F4: Cc | G4: Bcc | H4: Subject
B5: 1 | D5: qlda@congty.vn | E5: ntp.dien@congty.vn | F5: giamsat@congty.vn | H5: YCNT — Điện tầng 3
B6: 2 | D6: qlda@congty.vn | E6: ntp.nuoc@congty.vn | F6: giamsat@congty.vn | H6: YCNT — Cấp thoát nước T3
B7: 3 | D7: qlda@congty.vn | E7: ntp.nhom@congty.vn | F7: giamsat@congty.vn | H7: YCNT — Vách kính

Sheet Mẫu Email
J1: ← Mục lục
B7: DANH MỤC GỬI EMAIL
B8: 1 | D8: qlda@congty.vn | E8: ntp.dien@congty.vn | F8: giamsat@congty.vn | H8: YCNT — Điện tầng 3
B9: No. | C9: Send Date | D9: Sender Email | E9: To | F9: Cc | G9: Bcc | H9: Subject
B10: 1 | D10: qlda@congty.vn | E10: ntp.dien@congty.vn | F10: giamsat@congty.vn | H10: YCNT — Điện tầng 3
B11: 2 | D11: qlda@congty.vn | E11: ntp.nuoc@congty.vn | F11: giamsat@congty.vn | H11: YCNT — Cấp thoát nước T3
B12: 3 | D12: qlda@congty.vn | E12: ntp.nhom@congty.vn | F12: giamsat@congty.vn | H12: YCNT — Vách kính

Sheet Trộn sang Word
A1: SoBB | B1: TenHangMuc | C1: LyTrinh | D1: NgayNghiemThu | E1: NhaThau | F1: KetLuan | H1: ← Mục lục
A2: BB-01 | B2: Cống thoát nước D600 | C2: Km0+000–050 | D2: 46300 | E2: Đội hạ tầng số 1 | F2: Đạt
A3: BB-02 | B3: Cống thoát nước D600 | C3: Km0+050–100 | D3: 46300 | E3: Đội hạ tầng số 1 | F3: Đạt
A4: BB-03 | B4: Cống thoát nước D800 | C4: Km0+100–150 | D4: 46301 | E4: Đội hạ tầng số 2 | F4: Đạt
A5: BB-04 | B5: Hố ga HG-04 | C5: Km0+150 | D5: 46302 | E5: Đội hạ tầng số 2 | F5: Đạt
A6: BB-05 | B6: Cống thoát nước D800 | C6: Km0+150–200 | D6: 46303 | E6: Đội hạ tầng số 1 | F6: Đạt
A7: BB-06 | B7: Hố ga HG-05 | C7: Km0+200 | D7: 46303 | E7: Đội hạ tầng số 2 | F7: Đạt

Sheet Tạo tiêu đề
A1: SỔ THEO DÕI PHIẾU YÊU CẦU NGHIỆM THU — NHÀ VĂN PHÒNG 9 TẦNG | H1: ← Mục lục
A3: Số phiếu | B3: Hạng mục | C3: Công việc nghiệm thu | D3: Ngày nghiệm thu | E3: Vị trí | F3: Nhà thầu
A4: YC-031 | B4: Kết cấu | C4: Cốt thép cột tầng 3 | D4: 46300 | E4: Trục 1–5 | F4: Đội thép số 2
A5: YC-032 | B5: Kết cấu | C5: Ván khuôn dầm sàn tầng 3 | D5: 46302 | E5: Trục A–D | F5: Đội cốp pha số 1
A6: YC-033 | B6: MEP | C6: Ống điện âm sàn tầng 3 | D6: 46303 | E6: Toàn sàn | F6: NTP điện

Sheet Nổi bật hàng cột
A1: BẢNG TIÊN LƯỢNG PHẦN THÂN — NHÀ VĂN PHÒNG 9 TẦNG | H1: ← Mục lục
A3: TT | B3: Tên công tác | C3: ĐVT | D3: Khối lượng | E3: Đơn giá | F3: Thành tiền
A4: 1 | B4: Bê tông cột B30, đá 1x2 | C4: m³ | D4: 48.6 | E4: 1912000 | F4: =D4*E4 -> 92923200
A5: 2 | B5: Bê tông dầm B30 | C5: m³ | D5: 86.2 | E5: 1865000 | F5: =D5*E5 -> 160763000
A6: 3 | B6: Bê tông sàn B30 | C6: m³ | D6: 142.5 | E6: 1840000 | F6: =D6*E6 -> 262200000
A7: 4 | B7: Cốt thép cột CB400-V, D ≤ 18 | C7: tấn | D7: 9.84 | E7: 22150000 | F7: =D7*E7 -> 217956000
A8: 5 | B8: Cốt thép dầm CB400-V, D ≤ 18 | C8: tấn | D8: 14.26 | E8: 21980000 | F8: =D8*E8 -> 313434800
A9: 6 | B9: Ván khuôn cột | C9: m² | D9: 412 | E9: 186500 | F9: =D9*E9 -> 76838000
A10: 7 | B10: Ván khuôn dầm, sàn | C10: m² | D10: 1286 | E10: 172000 | F10: =D10*E10 -> 221192000

Sheet Danh sách Sheet
B1: TỔNG HỢP GIÁ TRỊ THANH TOÁN GIAI ĐOẠN 2 | F1: ← Mục lục
A3: TT | B3: Hạng mục | C3: ĐVT | D3: Giá trị
A4: 1 | B4: Phần móng | C4: đồng | D4: 4856200000
A5: 2 | B5: Phần thân | C5: đồng | D5: 7312450000
A6: 3 | B6: Phần hoàn thiện | C6: đồng | D6: 2104800000

Sheet Đổi tên Sheet
B1: Tên sheet cũ | C1: Tên sheet mới | F1: ← Mục lục
B2: Sheet1 | C2: 01-TH-Khoiluong
B3: Sheet2 | C3: 02-KL-Mongcoc
B4: Sheet3 | C4: 03-KL-Dammong
B5: KL than | C5: 04-KL-Than

Sheet Đánh số Sheet
A1: THUYẾT MINH DỰ TOÁN | D1: ← Mục lục
A2: Công trình: Nhà văn phòng 9 tầng
A3: Hạng mục: Phần móng và phần thân
A5: 1. Căn cứ lập dự toán
A6: - Hồ sơ thiết kế bản vẽ thi công đã được phê duyệt
A7: - Giá vật liệu công bố tháng 9/2026

Sheet Bỏ dấu Sheet
B1: TỔNG HỢP KHỐI LƯỢNG PHẦN THÔ | I1: ← Mục lục
A3: TT | B3: Hạng mục | C3: ĐVT | D3: Khối lượng
A4: 1 | B4: Bê tông đài móng, giằng móng B25 | C4: m³ | D4: ='Khối lượng móng'!$F$120 -> 412.6
A5: 2 | B5: Cốt thép móng CB400-V | C5: tấn | D5: 38.4
A6: 3 | B6: Bê tông cột, dầm, sàn B30 | C6: m³ | D6: 1286

Sheet Khối lượng móng
A1: KHỐI LƯỢNG MÓNG | H1: ← Mục lục
E120: Cộng | F120: 412.6

Sheet Đài móng - Cọc
A1: ĐÀI MÓNG - CỌC | C1: ← Mục lục

Sheet Nghiệm thu thép
A1: NGHIỆM THU CỐT THÉP | C1: ← Mục lục

Sheet Phụ lục 01
A1: PHỤ LỤC 01 | C1: ← Mục lục

Sheet Ẩn Sheet khác
B1: TỔNG HỢP DỰ TOÁN GÓI THẦU XL-02 | H1: ← Mục lục
A3: TT | B3: Khoản mục chi phí | C3: Giá trị (đồng)
A4: 1 | B4: Chi phí xây dựng | C4: ='KL-Mong'!$H$54+'KL-Than'!$H$86 -> 18426500000
A5: 2 | B5: Chi phí thiết bị | C5: 2315000000
A6: 3 | B6: Chi phí dự phòng | C6: 1037075000

Sheet KL-Mong
A1: KHỐI LƯỢNG PHẦN MÓNG | J1: ← Mục lục
G54: Cộng | H54: 6218300000

Sheet KL-Than
A1: KHỐI LƯỢNG PHẦN THÂN | J1: ← Mục lục
G86: Cộng | H86: 12208200000

Sheet DonGia-NoiBo
A1: ĐƠN GIÁ NỘI BỘ — không gửi đi | C1: ← Mục lục

Sheet Chietinh
A1: CHIẾT TÍNH ĐƠN GIÁ — không gửi đi | C1: ← Mục lục

Sheet Phuluc
A1: PHỤ LỤC | C1: ← Mục lục

Sheet Nhap1
A1: NHÁP — không gửi đi | C1: ← Mục lục

Sheet Hiện tất cả
B1: BẢNG TỔNG HỢP ĐƠN GIÁ | H1: ← Mục lục
A3: TT | B3: Tên công tác | C3: ĐVT | D3: Đơn giá (đồng)
A4: 1 | B4: Bê tông móng B25 | C4: m³ | D4: ='Chietinh-VT'!$G$42 -> 1865400
A5: 2 | B5: Cốt thép móng CB400-V, D ≤ 18 | C5: tấn | D5: 22150000
A6: 3 | B6: Ván khuôn móng | C6: m² | D6: 186500

Sheet Chietinh-VT
A1: CHIẾT TÍNH ĐƠN GIÁ VẬT TƯ (sheet ẩn) | I1: ← Mục lục
F42: Đơn giá | G42: 1865400

Sheet Giavatlieu
A1: GIÁ VẬT LIỆU (sheet ẩn) | C1: ← Mục lục

Sheet DonGia-CT
A1: ĐƠN GIÁ CHI TIẾT (sheet ẩn) | C1: ← Mục lục

Sheet KL
A1: KHỐI LƯỢNG | C1: ← Mục lục

Sheet Phuluc (2)
A1: PHỤ LỤC | C1: ← Mục lục

Sheet Xem ảnh
A1: NHẬT KÝ ẢNH HIỆN TRƯỜNG — TUẦN 32/2026 | G1: ← Mục lục
A3: Ngày | B3: Vị trí | C3: Hình ảnh | D3: Nhận xét
A4: 46239 | B4: Sàn tầng 5, trục 1–3 | C4: ảnh | D4: Thép sàn Ø10a150, đủ con kê
A5: 46240 | B5: Sàn tầng 5, trục 3–6 | C5: ảnh | D5: Bổ sung con kê ô sàn S5-4
A6: 46241 | B6: Dầm D5-12, trục B | C6: ảnh | D6: Đạt, cho phép đổ bê tông

Sheet Ẩn dòng trống
A1: BẢNG KHỐI LƯỢNG PHÁT SINH — ĐỢT 3 | G1: ← Mục lục
A3: TT | B3: Nội dung công việc | C3: ĐVT | D3: Khối lượng | E3: Ghi chú
A4: 1 | B4: Đào đất hố ga bổ sung | C4: m³ | D4: 12.5
A5: 2 | B5: Bê tông lót hố ga M100 | C5: m³ | D5: 1.8
A6: 3 | B6: Xây tường hố ga gạch đặc, VXM M75 | C6: m³ | D6: 3.2
A7: 4 | B7: Trát tường hố ga dày 2 cm, VXM M75 | C7: m² | D7: 24.6
A8: 5 | B8: Nắp đan BTCT hố ga 1,0×1,0 m | C8: cái | D8: 4 | E8: Theo BB hiện trường
B15: ĐẠI DIỆN TƯ VẤN GIÁM SÁT | D15: ĐẠI DIỆN NHÀ THẦU

Sheet Giải thích công thức (Coach)
A1: TỔNG HỢP KHỐI LƯỢNG BÊ TÔNG THEO THÁNG (m3) | H1: ← Mục lục
A4: TT | B4: Mã CV | C4: T8/2026 | D4: T9/2026 | E4: T10/2026 | F4: Diễn giải
A5: 1 | B5: BT.M | C5: =SUMPRODUCT((MaCV=$B5)*(Thang=C$4)*KhoiLuong) -> 142.5 | D5: =SUMPRODUCT((MaCV=$B5)*(Thang=D$4)*KhoiLuong) -> 96 | E5: =SUMPRODUCT((MaCV=$B5)*(Thang=E$4)*KhoiLuong) -> 48 | F5: Bê tông móng
A6: 2 | B6: BT.C | C6: =SUMPRODUCT((MaCV=$B6)*(Thang=C$4)*KhoiLuong) -> 0 | D6: =SUMPRODUCT((MaCV=$B6)*(Thang=D$4)*KhoiLuong) -> 38.4 | E6: =SUMPRODUCT((MaCV=$B6)*(Thang=E$4)*KhoiLuong) -> 57.6 | F6: Bê tông cột
A7: 3 | B7: BT.S | C7: =SUMPRODUCT((MaCV=$B7)*(Thang=C$4)*KhoiLuong) -> 0 | D7: =SUMPRODUCT((MaCV=$B7)*(Thang=D$4)*KhoiLuong) -> 0 | E7: =SUMPRODUCT((MaCV=$B7)*(Thang=E$4)*KhoiLuong) -> 112.8 | F7: Bê tông sàn

Sheet NK đổ BT
A1: NHẬT KÝ ĐỔ BÊ TÔNG (m3) — nguồn của các tên vùng MaCV, Thang, KhoiLuong | F1: ← Mục lục
A3: Ngày đổ | B3: Mã CV | C3: Tháng | D3: Khối lượng
A4: 46246 | B4: BT.M | C4: T8/2026 | D4: 86.5
A5: 46260 | B5: BT.M | C5: T8/2026 | D5: 56
A6: 46274 | B6: BT.M | C6: T9/2026 | D6: 96
A7: 46283 | B7: BT.C | C7: T9/2026 | D7: 38.4
A8: 46302 | B8: BT.M | C8: T10/2026 | D8: 48
A9: 46309 | B9: BT.C | C9: T10/2026 | D9: 57.6
A10: 46316 | B10: BT.S | C10: T10/2026 | D10: 112.8

Sheet Sửa lỗi công thức
A1: DỰ TOÁN PHẦN MÓNG | I1: ← Mục lục
A3: TT | B3: Mã ĐG | C3: Hạng mục | D3: ĐVT | E3: KL | F3: Đơn giá | G3: Thành tiền
A4: 1 | B4: BT01 | C4: Bê tông lót móng M100 | D4: m3 | E4: 18.6 | F4: =VLOOKUP(B4,DonGia!A:D,4,0) -> 1320000 | G4: =E4*F4 -> 24552000
A5: 2 | B5: BT02 | C5: Bê tông móng M300 | D5: m3 | E5: 286.5 | F5: =VLOOKUP(B5,DonGia!A:D,4,0) -> 1850000 | G5: =E5*F5 -> 530025000
A6: 3 | B6: CT01 | C6: Cốt thép móng | D6: tấn | E6: 34.2 | F6: =VLOOKUP(B6,DonGia!A:D,4,0) -> #N/A | G6: =E6*F6 -> #N/A
A7: 4 | B7: VK01 | C7: Ván khuôn móng | D7: m2 | E7: 236 | F7: =VLOOKUP(B7,DonGia!A:D,4,0) -> 185000 | G7: =E7*F7 -> 43660000

Sheet DonGia
A1: ĐƠN GIÁ VẬT LIỆU — PHẦN MÓNG | F1: ← Mục lục
A3: Mã ĐG | B3: Hạng mục | C3: ĐVT | D3: Đơn giá
A4: BT01 | B4: Bê tông lót móng M100 | C4: m3 | D4: 1320000
A5: BT02 | B5: Bê tông móng M300 | C5: m3 | D5: 1850000
A6: CT01 | B6: Cốt thép móng | C6: tấn | D6: 21500000
A7: VK01 | B7: Ván khuôn móng | C7: m2 | D7: 185000

Sheet Ngữ pháp
A1: NHẬT KÝ NGHIỆM THU — NHÀ VĂN PHÒNG 9 TẦNG | D1: ← Mục lục
A3: Ngày | B3: Nội dung công việc
A4: 46300 | B4: nghiem thu cong tac cot thep dam sàn tầng 3 , đạt yêu cầu
A5: 46301 | B5: lap dung van khuon cot truc A-B ,chua ve sinh
A6: 46302 | B6: đổ bê tông móng M1 , M2 xong lúc 16h ,bảo dưỡng tưới nước
A7: 46303 | B7: kiem tra cao do day mong dat theo thiet ke

Sheet Giải đề
A1: ÔN TẬP SÁT HẠCH AN TOÀN LAO ĐỘNG | D1: ← Mục lục
A3: Trang đề | B3: Đáp án
A4: Trang 1 (câu 1–10)
A5: Trang 2 (câu 11–20)

Sheet DVD Chat
A1: KHỐI LƯỢNG BÊ TÔNG MÓNG — ĐỐI CHIẾU BẢN VẼ | H1: ← Mục lục
A3: Mã | B3: Cấu kiện | C3: ĐVT | D3: KL tính | E3: KL bản vẽ | F3: Chênh
A4: M1 | B4: Đài móng M1 (8 cái) | C4: m3 | D4: 96 | E4: 108 | F4: 12
A5: M2 | B5: Đài móng M2 (6 cái) | C5: m3 | D5: 64.8 | E5: 64.8 | F5: 0
A6: GM | B6: Giằng móng | C6: m3 | D6: 42.8 | E6: 42.8 | F6: 0
